BEGIN:VCALENDAR
VERSION:2.0
PRODID:-//ChamberMaster//Event Calendar 2.0//EN
METHOD:PUBLISH
X-PUBLISHED-TTL:P3D
REFRESH-INTERVAL:P3D
CALSCALE:GREGORIAN
BEGIN:VEVENT
DTSTART:20240914T180000Z
DTEND:20240914T190000Z
X-MICROSOFT-CDO-ALLDAYEVENT:FALSE
SUMMARY:ARTIST WADE ZAHARES
DESCRIPTION:Saturday\, September 14 at 2 PM. Artist Wade Zahares. We are so excited to invite the very talented Maine Artist Wade Zahares to Graves Library on Saturday\, September 14 at 2 PM. Wade works exclusively in pastels\; he is drawn to the intimacy of the chalk and the ease with which he can blend colors. Wade will be here to talk about his work and his passion and demonstrate how he goes about his craft. Light refreshments will be provided by the Graves Library Snack Team. Parking is available along Maine Street\, the North Street Fire Station Parking Lot\, and Consolidated School (Route 9). The Louis T. Graves Memorial Public Library is at 18 Maine Street\, Kennebunkport. For further information\, please call 967-2778 or visit our website at www.graveslibrary.org. Please enter through the white door in the Parking Lot.
X-ALT-DESC;FMTTYPE=text/html:<span style="font-family:arial\,sans-serif">Saturday\, September 14 at 2 PM. <strong>Artist Wade Zahares</strong>. We are so excited to invite the very talented Maine Artist Wade Zahares to Graves Library on Saturday\, September 14 at 2 PM. Wade works exclusively in pastels\; he is drawn to the intimacy of the chalk and the ease with which he can blend colors. Wade will be here to talk about his work and his passion and demonstrate how he goes about his craft. Light refreshments will be provided by the Graves Library Snack Team.&nbsp\;Parking is available along Maine Street\, the North Street Fire Station Parking Lot\, and Consolidated School (Route 9). The Louis T. Graves Memorial Public Library is at 18 Maine Street\, Kennebunkport. For further information\, please call 967-2778 or visit our website at </span><a href="http://www.graveslibrary.org/"><span style="font-family:arial\,sans-serif">www.graveslibrary.org</span></a><span style="font-family:arial\,sans-serif">. Please enter through the white door in the Parking Lot.</span>
LOCATION:The Louis T. Graves Memorial Public Library is at 18 Maine Street\, Kennebunkport. For further information\, please call 967-2778 or visit our website at www.graveslibrary.org. Please enter through the white door in the Parking Lot.
UID:e.1923.29878
SEQUENCE:3
DTSTAMP:20260421T100041Z
URL:https://chamber.gokennebunks.com/events/details/artist-wade-zahares-29878
END:VEVENT

END:VCALENDAR
