BEGIN:VCALENDAR
VERSION:2.0
PRODID:-//ChamberMaster//Event Calendar 2.0//EN
METHOD:PUBLISH
X-PUBLISHED-TTL:P3D
REFRESH-INTERVAL:P3D
CALSCALE:GREGORIAN
BEGIN:VEVENT
DTSTART:20250524T150000Z
DTEND:20250524T200000Z
X-MICROSOFT-CDO-ALLDAYEVENT:FALSE
SUMMARY:Artist Market
DESCRIPTION:Stop by and see what our local Artists have created. We will be displaying works of art from 15 local artists\, pottery\, jewelry\, paintings and lots more.
X-ALT-DESC;FMTTYPE=text/html:Stop by and see what our local Artists have created. We will be displaying works of art from 15 local artists\, pottery\, jewelry\, paintings and lots more.
LOCATION:88 Goose Rocks Rd Kennebunkport\, ME
UID:e.1923.34219
SEQUENCE:3
DTSTAMP:20260421T045634Z
URL:https://chamber.gokennebunks.com/events/details/artist-market-34219
END:VEVENT

END:VCALENDAR
