BEGIN:VCALENDAR
VERSION:2.0
PRODID:-//ChamberMaster//Event Calendar 2.0//EN
METHOD:PUBLISH
X-PUBLISHED-TTL:P3D
REFRESH-INTERVAL:P3D
CALSCALE:GREGORIAN
BEGIN:VEVENT
DTSTART:20180607T223000Z
DTEND:20180608T003000Z
X-MICROSOFT-CDO-ALLDAYEVENT:FALSE
SUMMARY:ART NIGHT Ever After Mustang Rescue Fundraiser
DESCRIPTION:Come join us for this very special ART NIGHT FUNDRAISER for Ever After Mustang Rescue. Eat\, drink\, paint and help raise money for this great organization. In addition to the every day expenses incurred in caring for these wonderful animals\, Ever After is also trying to raise money for a new barn. 40% of ticket sales will go directly to the organization to help with these costs. Click the following link to purchase tickets. http://dawnburnsart.com/event/art-night-ever-after-mustang-rescue-fundraiser-duffys-tavern/
X-ALT-DESC;FMTTYPE=text/html:Come join us for this very special ART NIGHT FUNDRAISER for Ever After Mustang Rescue. Eat\, drink\, paint and help raise money for this great organization. In addition to the every day expenses incurred in caring for these wonderful animals\, Ever After is also trying to raise money for a new barn. 40% of ticket sales will go directly to the organization to help with these costs. Click the following link to purchase tickets. http://dawnburnsart.com/event/art-night-ever-after-mustang-rescue-fundraiser-duffys-tavern/
LOCATION:Duffy's Tavern - Kennebunk
UID:e.1923.9818
SEQUENCE:3
DTSTAMP:20260425T155157Z
URL:https://chamber.gokennebunks.com/events/details/art-night-ever-after-mustang-rescue-fundraiser-9818
END:VEVENT

END:VCALENDAR
