BEGIN:VCALENDAR
VERSION:2.0
PRODID:-//ChamberMaster//Event Calendar 2.0//EN
METHOD:PUBLISH
X-PUBLISHED-TTL:P3D
REFRESH-INTERVAL:P3D
CALSCALE:GREGORIAN
BEGIN:VEVENT
DTSTART:20180410T223000Z
DTEND:20180411T010000Z
X-MICROSOFT-CDO-ALLDAYEVENT:FALSE
SUMMARY:ART NIGHT - DUFFY'S TAVERN
DESCRIPTION:Come join us at Duffy's Tavern. Bring a few friends and enjoy a fun night of creativity while enjoying some good food and drinks.\n\nNo painting experience necessary. I will walk you step by step on how to paint this fun sunflower.
X-ALT-DESC;FMTTYPE=text/html:Come join us at Duffy&#39\;s Tavern. Bring a few friends and enjoy a fun night of creativity while enjoying some good food and drinks.<br />\nNo painting experience necessary. I will walk you step by step on how to paint this fun sunflower.&nbsp\;
LOCATION:Duffy's Tavern\, Kennebunk
UID:e.1923.9770
SEQUENCE:3
DTSTAMP:20260425T172231Z
URL:https://chamber.gokennebunks.com/events/details/art-night-duffy-s-tavern-9770
END:VEVENT

END:VCALENDAR
