BEGIN:VCALENDAR
VERSION:2.0
PRODID:-//ChamberMaster//Event Calendar 2.0//EN
METHOD:PUBLISH
X-PUBLISHED-TTL:P3D
REFRESH-INTERVAL:P3D
CALSCALE:GREGORIAN
BEGIN:VEVENT
DTSTART:20190614T210000Z
DTEND:20190615T000000Z
X-MICROSOFT-CDO-ALLDAYEVENT:FALSE
SUMMARY:Art Night!
DESCRIPTION:Celebrate art at the Brick Store Museum! Free admission to "The Art of Cute\," free art workshop on pen and ink by All Hands Collective\, and grand opening of "Cut Paper" and an installation from Capshore Photography! Snacks & beverages on site!\n\n\n\nThe Brick Store Museum was founded by American artist Edith Cleaves Barry in 1936. Part of its nonprofit mission is to celebrate local arts and artists\, in addition to local history and culture. This year\, the Museum announces a brand-new program that invites the public to celebrate and explore various forms of art. The program\, simply called "Art Night!\," is free and takes place on the second Friday of every month from 5pm   8pm\, June through September.\n\nFriday\, June 14th will mark the kick-off of the series. Events during the free evening include:\n\n-    Exploration of "The Art of Cute" exhibition\, presented by Portland's Illustration Institute\;\n\n-    The opening of the new Bauman Family Gallery contemporary art exhibit\, "Pop Up Paper!" by Christina Record\,  which includes whimsical cut-paper 3D artwork\;\n\n-    A free art workshop (for all ages!) called "Experimental Ink Practices\," crafted by All Hands Collective: As children we experiment with art by exploiting color. Whether we are given two crayons or twenty\, we always want to use them all. But how far can we push our experiments if we do away with color? Using black ink we will pay with texture\, contrast and unorthodox tools to explore a world without color. \n\n-    The opening of Capshore Photography's semi-permanent installation of traditional and aerial drone photography. Amy Welch-Olson and Dan Olson are a Southern Maine photography duo specializing in content-creation\, travel documentation and social media takeovers. They bring a new perspective to local photography\, and will be at the Museum sharing their work during the Art Night! event.
X-ALT-DESC;FMTTYPE=text/html:<p>Celebrate art at the Brick Store Museum! Free admission to &ldquo\;The Art of Cute\,&rdquo\; free art workshop on pen and ink by All Hands Collective\, and grand opening of &ldquo\;Cut Paper&rdquo\; and an installation from Capshore Photography! Snacks &amp\; beverages on site!<br />\n<br />\nThe Brick Store Museum was founded by American artist Edith Cleaves Barry in 1936. Part of its nonprofit mission is to celebrate local arts and artists\, in addition to local history and culture. This year\, the Museum announces a brand-new program that invites the public to celebrate and explore various forms of art. The program\, simply called &ldquo\;Art Night!\,&rdquo\; is free and takes place on the second Friday of every month from 5pm &ndash\; 8pm\, June through September.</p>\n\n<p>Friday\, June 14th will mark the kick-off of the series. Events during the free evening include:<br />\n-&nbsp\;&nbsp\; &nbsp\;Exploration of &ldquo\;The Art of Cute&rdquo\; exhibition\, presented by Portland&rsquo\;s Illustration Institute\;</p>\n\n<p>-&nbsp\;&nbsp\; &nbsp\;The opening of the new Bauman Family Gallery contemporary art exhibit\, &ldquo\;Pop Up Paper!&rdquo\; by Christina Record\, &nbsp\;which includes whimsical cut-paper 3D artwork\;</p>\n\n<p>-&nbsp\;&nbsp\; &nbsp\;A free art workshop (for all ages!) called &ldquo\;Experimental Ink Practices\,&rdquo\; crafted by All Hands Collective: As children we experiment with art by exploiting color. Whether we are given two crayons or twenty\, we always want to use them all. But how far can we push our experiments if we do away with color? Using black ink we will pay with texture\, contrast and unorthodox tools to explore a world without color.&nbsp\;</p>\n\n<p>-&nbsp\;&nbsp\; &nbsp\;The opening of Capshore Photography&#39\;s semi-permanent installation of traditional and aerial drone photography. Amy Welch-Olson and Dan Olson are a Southern Maine photography duo specializing in content-creation\, travel documentation and social media takeovers. They bring a new perspective to local photography\, and will be at the Museum sharing their work during the Art Night! event.</p>\n
LOCATION:Brick Store Museum 117 Main Street Kennebunk\, Maine 04043
UID:e.1923.13269
SEQUENCE:3
DTSTAMP:20260424T205802Z
URL:https://chamber.gokennebunks.com/events/details/art-night-13269
END:VEVENT

END:VCALENDAR
