BEGIN:VCALENDAR
VERSION:2.0
PRODID:-//ChamberMaster//Event Calendar 2.0//EN
METHOD:PUBLISH
X-PUBLISHED-TTL:P3D
REFRESH-INTERVAL:P3D
CALSCALE:GREGORIAN
BEGIN:VEVENT
DTSTART:20190712T210000Z
DTEND:20190713T000000Z
X-MICROSOFT-CDO-ALLDAYEVENT:FALSE
SUMMARY:Art Night!
DESCRIPTION:Celebrate art with free admission to "The Art of Cute\," a free art workshop by All Hands Collective\, and the grand opening of Ken Fellows' oil painting show! Light refreshments will be provided!
X-ALT-DESC;FMTTYPE=text/html:<p>Celebrate art with free admission to &ldquo\;The Art of Cute\,&rdquo\; a free art workshop by All Hands Collective\, and the grand opening of Ken Fellows&rsquo\; oil painting show! Light refreshments will be provided!</p>\n\n<div>&nbsp\;</div>\n
LOCATION:Brick Store Museum 117 Main Street Kennebunk\, ME 04043
UID:e.1923.13383
SEQUENCE:3
DTSTAMP:20260424T183018Z
URL:https://chamber.gokennebunks.com/events/details/art-night-07-12-2019-13383
END:VEVENT

END:VCALENDAR
