BEGIN:VCALENDAR
VERSION:2.0
PRODID:-//ChamberMaster//Event Calendar 2.0//EN
METHOD:PUBLISH
X-PUBLISHED-TTL:P3D
REFRESH-INTERVAL:P3D
CALSCALE:GREGORIAN
BEGIN:VEVENT
DTSTART:20250614T210000Z
DTEND:20250614T230000Z
X-MICROSOFT-CDO-ALLDAYEVENT:FALSE
SUMMARY:Art at the Inn
DESCRIPTION:Art at the Inn - featuring Andrea Monaco.\n\n\n\nAs part of our commitment to support and showcase local talent\, we have partnered with several local artists to have their work displayed at The Lady Mary Inn. Each month this summer\, we are featuring a different local artist in the music room allowing them to hang a variety of their artwork to really capture the breadth of their work.\n\nAndrea is a North Berwick resident.\n\n\n\nJoin us on Saturday\, June 14th from 5pm to 7pm for the opening of this exhibit. Meet the artist\, enjoy refreshments and view the art on exhibit in the Music room as well as all of the art in the Manor.
X-ALT-DESC;FMTTYPE=text/html:<h3>Art at the Inn - featuring Andrea Monaco.<br />\n<br />\nAs part of our commitment to support and showcase local talent\, we have partnered with several local artists to have their work displayed at The Lady Mary Inn. Each month this summer\, we are featuring a different local artist in the music room allowing them to hang a variety of their artwork to really capture the breadth of their work.</h3>\n\n<h3>Andrea is a North Berwick resident.<br />\n<br />\n<strong>Join us on Saturday\, June 14th from 5pm to 7pm</strong> for the opening of this exhibit. Meet the artist\, enjoy refreshments and view the art on exhibit in the Music room as well as all of the art in the Manor.</h3>\n
LOCATION:The Lady Mary Inn 2 Elm Street North Berwick\, ME 03906
UID:e.1923.35893
SEQUENCE:3
DTSTAMP:20260421T061727Z
URL:https://chamber.gokennebunks.com/events/details/art-at-the-inn-35893
END:VEVENT

END:VCALENDAR
