BEGIN:VCALENDAR
VERSION:2.0
PRODID:-//ChamberMaster//Event Calendar 2.0//EN
METHOD:PUBLISH
X-PUBLISHED-TTL:P3D
REFRESH-INTERVAL:P3D
CALSCALE:GREGORIAN
BEGIN:VEVENT
DTSTART:20190330T220000Z
DTEND:20190331T000000Z
X-MICROSOFT-CDO-ALLDAYEVENT:FALSE
SUMMARY:"Around the World" Trustee Dinner
DESCRIPTION:The Brick Store Museum presents its annual Trustee Dinner series! Trustees Bruce Jackson and Chris Farr team up to serve a delicious\, travel-inspired menu! The evening will include a short talk on the Museum's founder\, Edith Barry\, a world-traveler. The dinner takes place at the Kennebunkport Conservation Trust Headquarters (57 Gravelly Brook Rd\, Kennebunkport\, ME).\n\n\n\nTickets are $65 per person. The dinner beigins at 6:00pm. \n\n\n\nFor more information\, please call 985-4802 or visit www.brickstoremuseum.org
X-ALT-DESC;FMTTYPE=text/html:The Brick Store Museum presents its annual Trustee Dinner series! Trustees Bruce Jackson and Chris Farr team up to serve a delicious\, travel-inspired menu! The evening will include a short talk on the Museum&rsquo\;s founder\, Edith Barry\, a world-traveler. The dinner takes place at the Kennebunkport Conservation Trust Headquarters (57 Gravelly Brook Rd\, Kennebunkport\, ME).<br />\n<br />\nTickets are $65 per person. The dinner beigins at 6:00pm.&nbsp\;<br />\n<br />\nFor more information\, please call 985-4802 or visit www.brickstoremuseum.org
LOCATION:Kennebunkport Conservation Trust Headquarters 557 Gravelly Brook Rd\, Kennebunkport\, ME
UID:e.1923.13116
SEQUENCE:3
DTSTAMP:20260425T012928Z
URL:https://chamber.gokennebunks.com/events/details/around-the-world-trustee-dinner-13116
END:VEVENT

END:VCALENDAR
