BEGIN:VCALENDAR
VERSION:2.0
PRODID:-//ChamberMaster//Event Calendar 2.0//EN
METHOD:PUBLISH
X-PUBLISHED-TTL:P3D
REFRESH-INTERVAL:P3D
CALSCALE:GREGORIAN
BEGIN:VEVENT
DTSTART:20200229T210000Z
DTEND:20200301T010000Z
X-MICROSOFT-CDO-ALLDAYEVENT:FALSE
SUMMARY:Apres Ski Party
DESCRIPTION:We're waxing up the shot-ski and spiking the Ski Bunny Brew   Get ready for the Gondola Bar at the Kennebunkport Inn! Don your favorite ski sweater\, and join us for fondue\, snacks\, and entertainment.  Ticket includes 1 signature cocktail. Cash bar available for beer\, wine\, cocktails\, and additional ski-inspired beverages.\n\n\n\n$55 per person\n\nPurchase Tickets to Apres Ski Party at The Burleigh
X-ALT-DESC;FMTTYPE=text/html:<p><span style="font-size:12px"><span style="font-family:tahoma"><big>We&rsquo\;re waxing up the shot-ski and spiking the Ski Bunny Brew &mdash\; Get ready for the Gondola Bar at the Kennebunkport Inn! Don your favorite ski sweater\, and join us for fondue\, snacks\, and entertainment.&nbsp\; Ticket includes 1 signature cocktail. Cash bar available for beer\, wine\, cocktails\, and additional ski-inspired beverages.</big></span></span><br />\n<br />\n<span style="font-family:tahoma\; font-size:14.4px">$55 per person<br />\n<a href="https://www.eventbrite.com/e/apres-ski-party-at-the-burleigh-tickets-87145032137"><span style="color:#B22222">Purchase Tickets to Apres Ski Party at The Burleigh</span></a></span><br />\n&nbsp\;</p>\n
LOCATION:The Burleigh at Kennebunkport Inn One Dock Square Kennebunkport\, Maine 04046
UID:e.1923.15592
SEQUENCE:3
DTSTAMP:20260422T124319Z
URL:https://chamber.gokennebunks.com/events/details/apres-ski-party-15592
END:VEVENT

END:VCALENDAR
