BEGIN:VCALENDAR
VERSION:2.0
PRODID:-//ChamberMaster//Event Calendar 2.0//EN
METHOD:PUBLISH
X-PUBLISHED-TTL:P3D
REFRESH-INTERVAL:P3D
CALSCALE:GREGORIAN
BEGIN:VEVENT
DTSTART:20260206T213000Z
DTEND:20260206T233000Z
X-MICROSOFT-CDO-ALLDAYEVENT:FALSE
SUMMARY:apre ski: bestie's night out
DESCRIPTION:think rosy cheeks\, tired legs\, happy hearts. this special apr s ski experience kicks off with buti to get your heart pumping + muscles glowing\, followed by restorative yoga to stretch\, melt tension\, unwind + fully relax.\n\n\n\nafter class\, slip into full apr s mode. warm up at our cocoa bar with sweet treats + snacks\, then head to recovery cove to soak it all in. rotate through the sauna\, cold plunge + steam room to boost recovery\, calm your nervous system + leave feeling totally renewed.\n\n\n\nbring your besties\, wear something cozy\, and stay awhile. this is movement\, recovery + winter magic all wrapped into one unforgettable night.\n\n\n\n?? 2/6\n\n? 4:30 6:30P\n\n\n\nski legs not required. good vibes guaranteed. ????\n\n\n\nsign up here: https://www.thedailysweatkennebunk.com/book-a-class
X-ALT-DESC;FMTTYPE=text/html:think rosy cheeks\, tired legs\, happy hearts. this special apr&egrave\;s ski experience kicks off with buti to get your heart pumping + muscles glowing\, followed by restorative yoga to stretch\, melt tension\, unwind + fully relax.<br />\n<br />\nafter class\, slip into full apr&egrave\;s mode. warm up at our cocoa bar with sweet treats + snacks\, then head to recovery cove to soak it all in. rotate through the sauna\, cold plunge + steam room to boost recovery\, calm your nervous system + leave feeling totally renewed.<br />\n<br />\nbring your besties\, wear something cozy\, and stay awhile. this is movement\, recovery + winter magic all wrapped into one unforgettable night.<br />\n<br />\n?? 2/6<br />\n? 4:30&ndash\;6:30P<br />\n<br />\nski legs not required. good vibes guaranteed. ????<br />\n<br />\nsign up here: https://www.thedailysweatkennebunk.com/book-a-class
LOCATION:65 Portland RD\, Kennebunk ME\, 04043
UID:e.1923.38363
SEQUENCE:3
DTSTAMP:20260421T204736Z
URL:https://chamber.gokennebunks.com/events/details/apre-ski-bestie-s-night-out-38363
END:VEVENT

END:VCALENDAR
