BEGIN:VCALENDAR
VERSION:2.0
PRODID:-//ChamberMaster//Event Calendar 2.0//EN
METHOD:PUBLISH
X-PUBLISHED-TTL:P3D
REFRESH-INTERVAL:P3D
CALSCALE:GREGORIAN
BEGIN:VEVENT
DTSTART:20180428T210000Z
DTEND:20180429T010000Z
X-MICROSOFT-CDO-ALLDAYEVENT:FALSE
SUMMARY:The New School Annual Silent Auction
DESCRIPTION:Support The New School Intensives and Scholarship Funds at our Annual Silent Auction and Gala.  \n\n?100's of local gift certificates\, services\, trips\, and items up for bidding.\n\n?Evening Emcee is Irwin Gratz of Maine Public!\n\n?Free entry\, delicious food\, live music\, cash bar\, Student Intensives Presentations.\n\n?Contact for more info:  TheNewSchool@tnsk.org  207-985-3745
X-ALT-DESC;FMTTYPE=text/html:Support The New School Intensives and Scholarship Funds at our Annual Silent Auction and Gala. &nbsp\;<br />\n?100&#39\;s of local gift certificates\, services\, trips\, and items up for bidding.<br />\n?Evening Emcee is Irwin Gratz of Maine Public!<br />\n?Free entry\, delicious food\, live music\, cash bar\, Student Intensives Presentations.<br />\n?Contact for more info:&nbsp\; TheNewSchool@tnsk.org&nbsp\; 207-985-3745
LOCATION:Pepperell Mill Event Center 40 Main St. ?Biddeford\, ME 04105
UID:e.1923.9767
SEQUENCE:3
DTSTAMP:20260425T181728Z
URL:https://chamber.gokennebunks.com/events/details/annual-silent-auction-9767
END:VEVENT

END:VCALENDAR
