BEGIN:VCALENDAR
VERSION:2.0
PRODID:-//ChamberMaster//Event Calendar 2.0//EN
METHOD:PUBLISH
X-PUBLISHED-TTL:P3D
REFRESH-INTERVAL:P3D
CALSCALE:GREGORIAN
BEGIN:VEVENT
DTSTART:20191026T123000Z
DTEND:20191026T133000Z
X-MICROSOFT-CDO-ALLDAYEVENT:FALSE
SUMMARY:Annual Pumpkin Charity Workout to Benefit Experience Camps
DESCRIPTION:Join us for our annual Pumpkin Charity Workout\, this time to benefit the Experience Camps. The Experience Camps help grieving children have a place to feel "normal" because everyone is going through something similar. The workout is open to the public\, so bring your friends and family for a fun time benefiting a great cause! Any donation amount is welcome\, and be sure to bring a pumpkin you can keep with you to use throughout the entire workout.
X-ALT-DESC;FMTTYPE=text/html:<span style="color:rgb(29\, 33\, 41)\; font-family:helvetica neue\,helvetica\,arial\,sans-serif\; font-size:14px">Join us for our annual Pumpkin Charity Workout\, this time to benefit the Experience Camps. The Experience Camps help grieving children have a place to feel "normal" because everyone is going through something similar. The workout is open to the public\, so bring your friends and family for a fun time benefiting a great cause! Any donation amount is welcome\, and be sure to bring a pumpkin you can keep with you to use throughout the entire workout.</span>
LOCATION:Spurling Fitness 1 Alewive Park Road Kennebunk\, ME 04043
UID:e.1923.14483
SEQUENCE:3
DTSTAMP:20260424T141047Z
URL:https://chamber.gokennebunks.com/events/details/annual-pumpkin-charity-workout-to-benefit-experience-camps-14483
END:VEVENT

END:VCALENDAR
