BEGIN:VCALENDAR
VERSION:2.0
PRODID:-//ChamberMaster//Event Calendar 2.0//EN
METHOD:PUBLISH
X-PUBLISHED-TTL:P3D
REFRESH-INTERVAL:P3D
CALSCALE:GREGORIAN
BEGIN:VEVENT
DTSTART:20240817T130000Z
DTEND:20240817T170000Z
X-MICROSOFT-CDO-ALLDAYEVENT:FALSE
SUMMARY:Annual Porch Sale
DESCRIPTION:Kitchen Wares? Mirrors ? Books ? Furniture ? Home Decor ? Jewlery ? Handbags ? Lamps ? Accessories ? Art?\n\nThe Annual Center Porch Sale\n\nFriday & Saturday\, August 16 & 17 9:00 AM - 1:00 PM\n\nCash/Check Only!\n\nThe Center\, Kennebunk \n\n175 Port Rd.\, Kennebunk | 207-967-8514
X-ALT-DESC;FMTTYPE=text/html:Kitchen Wares? Mirrors ? Books&nbsp\;?&nbsp\;Furniture ? Home Decor ? Jewlery ? Handbags ? Lamps ? Accessories ? Art?<br />\nThe Annual Center Porch Sale<br />\nFriday &amp\; Saturday\, August 16 &amp\; 17 9:00 AM - 1:00 PM<br />\nCash/Check Only!<br />\nThe Center\, Kennebunk&nbsp\;<br />\n175 Port Rd.\, Kennebunk | 207-967-8514
LOCATION:The Center 175 Port Road Kennebunk\, Maine 04043
UID:e.1923.29709
SEQUENCE:3
DTSTAMP:20260421T124431Z
URL:https://chamber.gokennebunks.com/events/details/annual-porch-sale-08-17-2024-29709
END:VEVENT

END:VCALENDAR
