BEGIN:VCALENDAR
VERSION:2.0
PRODID:-//ChamberMaster//Event Calendar 2.0//EN
METHOD:PUBLISH
X-PUBLISHED-TTL:P3D
REFRESH-INTERVAL:P3D
CALSCALE:GREGORIAN
BEGIN:VEVENT
DTSTART:20240414T180000Z
DTEND:20240414T193000Z
X-MICROSOFT-CDO-ALLDAYEVENT:FALSE
SUMMARY:ANNUAL POETRY BASH
DESCRIPTION:Sunday\, April 14 at 2 PM. Annual Poetry Bash. Please join Graves Library for National Poetry Month and get back in touch with your inner poet. The former US Poet Laureate Billy Collins once wrote: "All babies are born with a knowledge of poetry because the lub-dub of the mother's heart is in iambic meter." Bring a poem to read that you have written\, share a favorite poem by another author\, or just hunker down and listen. Inaugurated in April 1996\, National Poetry Month brings together publishers\, booksellers\, literary organizations\, libraries\, schools\, and poets around the country to celebrate poetry and its vital place in American culture. Be part of the celebration! Light refreshments will be served. The Louis T. Graves Memorial Public Library is located at 18 Maine Street\, Kennebunkport. For further information\, please call 967-2778 or visit our website at www.graveslibrary.org.
X-ALT-DESC;FMTTYPE=text/html:<span style="font-family:arial\,sans-serif"><span style="font-size:10.5pt">Sunday\, April 14 at 2 PM. <strong>Annual Poetry Bash</strong>. Please join Graves Library for National Poetry Month and get back in touch with your inner poet. The former US Poet Laureate Billy Collins once wrote: &ldquo\;All babies are born with a knowledge of poetry because the lub-dub of the mother&rsquo\;s heart is in iambic meter.&rdquo\; Bring a poem to read that you have written\, share a favorite poem by another author\, or just hunker down and listen. Inaugurated in April 1996\, National Poetry Month brings together publishers\, booksellers\, literary organizations\, libraries\, schools\, and poets around the country to celebrate poetry and its vital place in American culture. Be part of the celebration! Light refreshments will be served. The Louis T. Graves Memorial Public Library is located at 18 Maine Street\, Kennebunkport. For further information\, please call 967-2778 or visit our website at </span></span><a href="http://www.graveslibrary.org/"><span style="color:windowtext"><span style="font-family:arial\,sans-serif"><span style="font-size:10.5pt">www.graveslibrary.org</span></span></span></a><span style="font-family:arial\,sans-serif"><span style="font-size:10.5pt">.</span></span>
LOCATION:The Louis T. Graves Memorial Public Library is located at 18 Maine Street\, Kennebunkport.
UID:e.1923.24556
SEQUENCE:3
DTSTAMP:20260421T164042Z
URL:https://chamber.gokennebunks.com/events/details/annual-poetry-bash-04-14-2024-24556
END:VEVENT

END:VCALENDAR
