BEGIN:VCALENDAR
VERSION:2.0
PRODID:-//ChamberMaster//Event Calendar 2.0//EN
METHOD:PUBLISH
X-PUBLISHED-TTL:P3D
REFRESH-INTERVAL:P3D
CALSCALE:GREGORIAN
BEGIN:VEVENT
DTSTART:20260309T170000Z
DTEND:20260309T200000Z
X-MICROSOFT-CDO-ALLDAYEVENT:FALSE
SUMMARY:Annual Job Fair 2026
DESCRIPTION:We are excited to host our annual Job Fair coming up on Monday\, March 9 from 1-4pm! This event will be held at St. Martha's Church (30 Portland Road\, Kennebunk). \n\n\n\nThis event is free for all community members to attend and meet with local employers. \n\n	1-2 PM: For retired workers\n	2-4 PM: Open to all! \n\n There will be plenty of parking available along with disability accessibility. \n\n\n\nWe hope to see you there!
X-ALT-DESC;FMTTYPE=text/html:<span style="font-size:16px\;"><span style="font-family:arial\;"><strong>We are excited to host our annual Job Fair coming up on Monday\, March 9 from 1-4pm! This event will be held at St. Martha&#39\;s Church (30 Portland Road\, Kennebunk).&nbsp\;</strong><br />\n<br />\nThis event is free for all community members to attend and meet with local employers.&nbsp\;</span></span>\n<ul>\n	<li><span style="font-size:16px\;"><span style="font-family:arial\;">1-2 PM:&nbsp\;For retired workers</span></span></li>\n	<li><span style="font-size:16px\;"><span style="font-family:arial\;">2-4 PM:&nbsp\;Open to all!&nbsp\;</span></span></li>\n</ul>\n<span style="font-size:16px\;"> There will be plenty of parking available along with disability accessibility.&nbsp\;<br />\n<br />\n<span style="font-family: arial\;">We hope to see you there!&#8203\;</span></span><br />\n<br />\n&nbsp\;
LOCATION:St. Martha's Church Hall 30 Portland Road\, Kennebunk ME 04043
UID:e.1923.33104
SEQUENCE:3
DTSTAMP:20260421T220817Z
URL:https://chamber.gokennebunks.com/events/details/annual-job-fair-2026-33104
END:VEVENT

END:VCALENDAR
