BEGIN:VCALENDAR
VERSION:2.0
PRODID:-//ChamberMaster//Event Calendar 2.0//EN
METHOD:PUBLISH
X-PUBLISHED-TTL:P3D
REFRESH-INTERVAL:P3D
CALSCALE:GREGORIAN
BEGIN:VEVENT
DTSTART:20240311T170000Z
DTEND:20240311T190000Z
X-MICROSOFT-CDO-ALLDAYEVENT:FALSE
SUMMARY:Annual Job Fair 2024
DESCRIPTION:We are excited to host our annual Job Fair coming up on Monday\, March 11 from 1-3pm! This event will be held at St. Martha's Church (30 Portland Road\, Kennebunk). \n\n\n\nThis event is free for all community members to attend and meet with local employers. \n\n	1-2 PM: For retired workers\n	2-3 PM: Open to all! \n\n There will be plenty of parking available along with disability accessibility. \n\n\n\nAre you an employer looking to participate in the job fair? You can sign up on this page OR email Jamie at events@gokennebunks.com for more information. \n\n\n\nIf you can't make the job fair\, we'd still love for you to participate. You can register on this page and all job postings will be displayed HERE as well as at the event. \n\n\n\nIf you have any questions\, please contact Jamie at events@gokennebunks.com.\n\n\n\nWe hope to see you there!
X-ALT-DESC;FMTTYPE=text/html:<br />\n<span style="font-size:16px\;"><span style="font-family:arial\;"><strong>We are excited to host our annual Job Fair coming up on Monday\, March 11 from 1-3pm! This event will be held at St. Martha&#39\;s Church (30 Portland Road\, Kennebunk).&nbsp\;</strong><br />\n<br />\nThis event is free for all community members to attend and meet with local employers.&nbsp\;</span></span>\n<ul>\n	<li><span style="font-size:16px\;"><span style="font-family:arial\;">1-2 PM:&nbsp\;For retired workers</span></span></li>\n	<li><span style="font-size:16px\;"><span style="font-family:arial\;">2-3 PM:&nbsp\;Open to all!&nbsp\;</span></span></li>\n</ul>\n<span style="font-size:16px\;"> There will be plenty of parking available along with disability accessibility.&nbsp\;<br />\n<br />\n<strong>Are you an employer looking to participate in the job fair? You can sign up on this page OR email Jamie at events@gokennebunks.com for more information.&nbsp\;</strong><br />\n<br />\nIf you can&#39\;t make the job fair\, we&#39\;d still love for you to participate. You can register on this page and all job postings will be displayed <a href="http://www.gokennebunks.com/work/jobfair/">HERE</a> as well as at the event.&nbsp\;<br />\n<br />\nIf you have any questions\, please contact Jamie at events@gokennebunks.com.<br />\n<br />\n<span style="font-family: arial\;">We hope to see you there!&#8203\;</span></span>
LOCATION:St. Martha's Church Hall 30 Portland Road\, Kennebunk ME 04043
UID:e.1923.24173
SEQUENCE:3
DTSTAMP:20260421T180610Z
URL:https://chamber.gokennebunks.com/events/details/annual-job-fair-2024-24173
END:VEVENT

END:VCALENDAR
