BEGIN:VCALENDAR
VERSION:2.0
PRODID:-//ChamberMaster//Event Calendar 2.0//EN
METHOD:PUBLISH
X-PUBLISHED-TTL:P3D
REFRESH-INTERVAL:P3D
CALSCALE:GREGORIAN
BEGIN:VEVENT
DTSTART:20241031T200000Z
DTEND:20241031T220000Z
X-MICROSOFT-CDO-ALLDAYEVENT:FALSE
SUMMARY:Annual Business Trick-or-Treating
DESCRIPTION:Business Trick-or-Treating from 4 to 6 PM Thursday is a rain-or-shine night and cannot be rescheduled. Please plan accordingly and look for pumpkin lanterns that indicate local businesses' participation.\n\nVisit: https://gokennebunks.com/play/halloween/\n\nFor all the Halloween 2024 Details!
X-ALT-DESC;FMTTYPE=text/html:<div data-block="true" data-editor="2iu1e" data-offset-key="2lm28-0-0" style="box-sizing: inherit\; border: 0px rgb(230\, 230\, 230)\; outline: 0px\; vertical-align: baseline\; background-image: initial\; background-position: initial\; background-size: initial\; background-repeat: initial\; background-attachment: initial\; background-origin: initial\; background-clip: initial\; margin: 0px\; padding: 0px\; color: rgb(53\, 53\, 53)\; font-family: &quot\;PT Sans&quot\;\, sans-serif\; font-size: 20px\;">\n<div class="_1mf _1mj" data-offset-key="2lm28-0-0" style="box-sizing: inherit\; border: 0px rgb(230\, 230\, 230)\; outline: 0px\; vertical-align: baseline\; background: transparent\; margin: 0px\; padding: 0px\;"><span data-offset-key="2lm28-0-0" style="box-sizing: inherit\; border: 0px rgb(230\, 230\, 230)\; outline: 0px\; vertical-align: baseline\; background: transparent\; margin: 0px\; padding: 0px\;"><strong style="box-sizing: inherit\; border: 0px rgb(230\, 230\, 230)\; outline: 0px\; vertical-align: baseline\; background: transparent\; margin: 0px\; padding: 0px\;">Business Trick-or-Treating</strong>&nbsp\;from 4 to 6 PM Thursday is a rain-or-shine night and cannot be rescheduled. Please plan accordingly and look for pumpkin lanterns that indicate local businesses&rsquo\; participation.<br />\nVisit:<a href="http://gokennebunks.com/play/halloween/">&nbsp\;</a></span><a href="http://gokennebunks.com/play/halloween/">https://gokennebunks.com/play/halloween/</a><br />\nFor all the Halloween 2024 Details!</div>\n</div>\n
LOCATION:
UID:e.1923.30978
SEQUENCE:3
DTSTAMP:20260421T085800Z
URL:https://chamber.gokennebunks.com/events/details/annual-business-trick-or-treating-30978
END:VEVENT

END:VCALENDAR
