BEGIN:VCALENDAR
VERSION:2.0
PRODID:-//ChamberMaster//Event Calendar 2.0//EN
METHOD:PUBLISH
X-PUBLISHED-TTL:P3D
REFRESH-INTERVAL:P3D
CALSCALE:GREGORIAN
BEGIN:VEVENT
DTSTART:20230715T000000Z
DTEND:20230715T020000Z
X-MICROSOFT-CDO-ALLDAYEVENT:FALSE
SUMMARY:Annie Royer's Bastille Day Celebration
DESCRIPTION:The French have a word for this wonderful\, professional Cabaret Jazz singer and performer. Extraordinaire!\n\nAnnie Royer\, a native of Paris (France)\, settled in Boston\, Massachusetts\, for ten years\, and is now resident of Palm Beach\, Florida. She has been captivating audiences on both sides of the Atlantic with her musical and dramatic talents and her Gallic charm. Her repertoire ranges from her specialty   soulful and haunting renditions of cabaret songs   la Edith Piaf - to other popular French tunes (Chevalier\, Montand\, Trenet\, Mistinguett\, Becaud\, Aznavour)\, and lively performances of Broadway and Jazz favorites. Invariably\, listeners of all ages respond with enthusiasm to her invitation for "request songs" in French and English.\n\nAnnie Royer's charismatic style is suited to and engages both\, small and large audiences. She is a sought-after entertainer at Jazz Clubs\, Concert Stages in Vegas\, Miami\, DC\, New Orleans\, and Music Jazz Festivals from Canada to Florida. To name a few Jazz clubs in the Boston area: Scullers\, Regattabar\, and Ryles. The MFA Boston had invited her for Bastille Day where she performed a sold out\, amazing concert to 400 guests. Annie has 2 recorded solo albums\, 10 compilations and she is signed with HighNote Records. Annie is performing all over the United States as well as in many other countries. Her band "Les Gar ons Musettes\," all very talented and well known musicians\, backs her.\n\nAnnie performed the show "EDITH PIAF FOREVER" all over the country with grand\n\nsuccess. Annie has been singing Edith Piaf for a long time and this show is all about Edith Piaf\, her life\, her music\, her passion\, after the tremendous success of "La Mome" in France and the Oscar winner (best Actress for Marion Cotillard) for "La Vie en Rose". La Vie en Rose is and will stay forever in our heart. This show brings with it a lot of emotion\, drama and professionalism.
X-ALT-DESC;FMTTYPE=text/html:<div>The French have a word for this wonderful\, professional Cabaret Jazz singer and performer. Extraordinaire!</div>\n\n<div>Annie Royer\, a native of Paris (France)\, settled in Boston\, Massachusetts\, for ten years\, and is now resident of Palm Beach\, Florida. She has been captivating audiences on both sides of the Atlantic with her musical and dramatic talents and her Gallic charm. Her repertoire ranges from her specialty &ndash\; soulful and haunting renditions of cabaret songs &agrave\; la Edith Piaf - to other popular French tunes (Chevalier\, Montand\, Trenet\, Mistinguett\, Becaud\, Aznavour)\, and lively performances of Broadway and Jazz favorites. Invariably\, listeners of all ages respond with enthusiasm to her invitation for &ldquo\;request songs&rdquo\; in French and English.</div>\n\n<div>Annie Royer&rsquo\;s charismatic style is suited to and engages both\, small and large audiences. She is a sought-after entertainer at Jazz Clubs\, Concert Stages in Vegas\, Miami\, DC\, New Orleans\, and Music Jazz Festivals from Canada to Florida. To name a few Jazz clubs in the Boston area: Scullers\, Regattabar\, and Ryles. The MFA Boston had invited her for Bastille Day where she performed a sold out\, amazing concert to 400 guests. Annie has 2 recorded solo albums\, 10 compilations and she is signed with HighNote Records. Annie is performing all over the United States as well as in many other countries. Her band &ldquo\;Les Gar&ccedil\;ons Musettes\,&quot\; all very talented and well known musicians\, backs her.</div>\n\n<div>Annie performed the show &quot\;EDITH PIAF FOREVER&quot\; all over the country with grand<br />\nsuccess. Annie has been singing Edith Piaf for a long time and this show is all about Edith Piaf\, her life\, her music\, her passion\, after the tremendous success of &quot\;La Mome&quot\; in France and the Oscar winner (best Actress for Marion Cotillard) for &quot\;La Vie en Rose&quot\;. La Vie en Rose is and will stay forever in our heart. This show brings with it a lot of emotion\, drama and professionalism.</div>\n
LOCATION:53 Old Post Road\, Arundel\, ME\, United States\, Maine
UID:e.1923.18399
SEQUENCE:3
DTSTAMP:20260422T050206Z
URL:https://chamber.gokennebunks.com/events/details/annie-royer-s-bastille-day-celebration-18399
END:VEVENT

END:VCALENDAR
