BEGIN:VCALENDAR
VERSION:2.0
PRODID:-//ChamberMaster//Event Calendar 2.0//EN
METHOD:PUBLISH
X-PUBLISHED-TTL:P3D
REFRESH-INTERVAL:P3D
CALSCALE:GREGORIAN
BEGIN:VEVENT
DTSTART:20180805T223000Z
DTEND:20180806T003000Z
X-MICROSOFT-CDO-ALLDAYEVENT:FALSE
SUMMARY:Annie Royer\, French Cabaret Jazz
DESCRIPTION:Her repertoire ranges from her specialty ? soulful and haunting renditions of cabaret songs à la Edith Piaf ? to other popular French tunes (Chevalier\, Montand\, Trenet\, Mistinguett\, Becaud\, Aznavour)\, and lively performances of Broadway and Jazz favorites. Invariably\, listeners of all ages respond with enthusiasm to her invitation for ?request songs? in French and English.
X-ALT-DESC;FMTTYPE=text/html: Her repertoire ranges from her specialty ? soulful and haunting renditions of cabaret songs à la Edith Piaf ? to other popular French tunes (Chevalier\, Montand\, Trenet\, Mistinguett\, Becaud\, Aznavour)\, and lively performances of Broadway and Jazz favorites. Invariably\, listeners of all ages respond with enthusiasm to her invitation for ?request songs? in French and English.
LOCATION:Vinegar Hill Music Theatre 53 Old Post Rd. Arundel\, ME 04046
UID:e.1923.7187
SEQUENCE:3
DTSTAMP:20260425T121033Z
URL:https://chamber.gokennebunks.com/events/details/annie-royer-french-cabaret-jazz-7187
END:VEVENT

END:VCALENDAR
