BEGIN:VCALENDAR
VERSION:2.0
PRODID:-//ChamberMaster//Event Calendar 2.0//EN
METHOD:PUBLISH
X-PUBLISHED-TTL:P3D
REFRESH-INTERVAL:P3D
CALSCALE:GREGORIAN
BEGIN:VEVENT
DTSTART:20180418T220000Z
DTEND:20180419T010000Z
X-MICROSOFT-CDO-ALLDAYEVENT:FALSE
SUMMARY:Anne Amie Family Wine Dinner!
DESCRIPTION:Chef Joel and his team will prepare a four-course dinner\, served family-style\, to complement Anne Amie's signature Pinot Noir\, Pinot Gris\, M ller-Thurgau\, and Pinot Blanc\, poured by our own Sam Cote. Blood orange scallop ceviche Moules frites Roasted pork Loin with au gratin potatoes Seared duck breast with black cherry cola vin Chef's special dessert No forced wine pairings or long lectures. Just bring some friends\, meet new ones\, and have fun. And we'll have live music to set the perfect scene...
X-ALT-DESC;FMTTYPE=text/html:Chef Joel and his team will prepare a four-course dinner\, served family-style\, to complement Anne Amie&#39\;s signature Pinot Noir\, Pinot Gris\, M&uuml\;ller-Thurgau\, and Pinot Blanc\, poured by our own Sam Cote. Blood orange scallop ceviche Moules frites Roasted pork Loin with au gratin potatoes Seared duck breast with black cherry cola vin Chef&#39\;s special dessert No forced wine pairings or long lectures. Just bring some friends\, meet new ones\, and have fun. And we&#39\;ll have live music to set the perfect scene...
LOCATION:Old Vines Wine Bar
UID:e.1923.9778
SEQUENCE:3
DTSTAMP:20260425T171944Z
URL:https://chamber.gokennebunks.com/events/details/anne-amie-family-wine-dinner-9778
END:VEVENT

END:VCALENDAR
