BEGIN:VCALENDAR
VERSION:2.0
PRODID:-//ChamberMaster//Event Calendar 2.0//EN
METHOD:PUBLISH
X-PUBLISHED-TTL:P3D
REFRESH-INTERVAL:P3D
CALSCALE:GREGORIAN
BEGIN:VEVENT
DTSTART:20180819T000000Z
DTEND:20180819T020000Z
X-MICROSOFT-CDO-ALLDAYEVENT:FALSE
SUMMARY:Ann Hampton Callaway
DESCRIPTION:Considered one of the best jazz singers of our time Stephen Holden of The New York Times said\, ?For sheer vocal beauty\, no contemporary singer matches Ms. Callaway.? and Musical Theatre Review recently said ?Great is one of the most over-used words in the dictionary but just as Ella Fitzgerald was the greatest jazz singer of her era\, so too is the magnificent Ann Hampton Callaway of hers.?
X-ALT-DESC;FMTTYPE=text/html:Considered one of the best jazz singers of our time Stephen Holden of The New York Times said\, ?For sheer vocal beauty\, no contemporary singer matches Ms. Callaway.? and Musical Theatre Review recently said ?Great is one of the most over-used words in the dictionary but just as Ella Fitzgerald was the greatest jazz singer of her era\, so too is the magnificent Ann Hampton Callaway of hers.?
LOCATION:Vinegar Hill Music Theatre 53 Old Post Rd. Arundel\, ME 04046
UID:e.1923.7177
SEQUENCE:3
DTSTAMP:20260425T115641Z
URL:https://chamber.gokennebunks.com/events/details/ann-hampton-callaway-7177
END:VEVENT

END:VCALENDAR
