BEGIN:VCALENDAR
VERSION:2.0
PRODID:-//ChamberMaster//Event Calendar 2.0//EN
METHOD:PUBLISH
X-PUBLISHED-TTL:P3D
REFRESH-INTERVAL:P3D
CALSCALE:GREGORIAN
BEGIN:VEVENT
DTSTART;VALUE=DATE:20260206
DTEND;VALUE=DATE:20260207
TRANSP:TRANSPARENT
X-MICROSOFT-CDO-ALLDAYEVENT:TRUE
SUMMARY:Animal Adaptations with the Center for Wildlife & School Around Us
DESCRIPTION:Join us for a day of learning about animal adaptations with our guests\, the Center for Wildlife!\n\n\n\nNative wildlife have amazing adaptations they use to survive extreme cold\, heat\, wind and other elements. With assistance from their live\, non-releasable raptor\, reptile and mammal ambassadors\, the Center For Wildlife will teach us about the special tools local animals use for surviving the New England seasons with a presentation in the morning. In the afternoon we will do related activities such as recreating beak adaptations!\n\n\n\nHomeschooling? This Community Day is the perfect day to join us! The day is open to all families with children ages 4-14!\n\nWhat to Bring: bag lunch\, snacks\, water bottle and appropriate clothes for the weather since we do spend plenty of time in the outdoors during lunch and breaks
X-ALT-DESC;FMTTYPE=text/html:<p>Join us for a day of learning about animal adaptations with our guests\, the Center for Wildlife!<br />\n<br />\nNative wildlife have amazing adaptations they use to survive extreme cold\, heat\, wind and other elements. With assistance from their live\, non-releasable raptor\, reptile and mammal ambassadors\, the Center For Wildlife will teach us about the special tools local animals use for surviving the New England seasons with a presentation in the morning. In the afternoon we will do related activities such as recreating beak adaptations!<br />\n<br />\nHomeschooling? This Community Day is the perfect day to join us! The day is open to all families with children ages 4-14!</p>\n\n<p><strong>What to Bring:</strong> bag lunch\, snacks\, water bottle and appropriate clothes for the weather since we do spend plenty of time in the outdoors during lunch and breaks</p>\n
LOCATION:School Around Us 281 Log Cabin Road Arundel\, ME
UID:e.1923.38356
SEQUENCE:3
DTSTAMP:20260421T205042Z
URL:https://chamber.gokennebunks.com/events/details/animal-adaptations-with-the-center-for-wildlife-school-around-us-38356
END:VEVENT

END:VCALENDAR
