BEGIN:VCALENDAR
VERSION:2.0
PRODID:-//ChamberMaster//Event Calendar 2.0//EN
METHOD:PUBLISH
X-PUBLISHED-TTL:P3D
REFRESH-INTERVAL:P3D
CALSCALE:GREGORIAN
BEGIN:VEVENT
DTSTART:20180419T213000Z
DTEND:20180419T230000Z
X-MICROSOFT-CDO-ALLDAYEVENT:FALSE
SUMMARY:“Anatomy of Gravestones” Lecture
DESCRIPTION:Southern Maine's early cemeteries are rich with folk art. Beautifully hand-carved gravestones created by local stonecutters are readily found throughout our region. But what do the gravestone symbols   urns & willows\, skulls & crossed bones\, and pointing fingers   really mean? In this heavily-illustrated presentation\, cemetery historian and author Ron Romano will describe the anatomy of a gravestone\, discuss the types of materials found in our burial grounds and explain the meanings of dozens of gravestone icons. This will be a most engaging hour!\n\n\n\nLight refreshments will be provided!
X-ALT-DESC;FMTTYPE=text/html:Southern Maine&rsquo\;s early cemeteries are rich with folk art. Beautifully hand-carved gravestones created by local stonecutters are readily found throughout our region. But what do the gravestone symbols &mdash\; urns &amp\; willows\, skulls &amp\; crossed bones\, and pointing fingers &mdash\; really mean? In this heavily-illustrated presentation\, cemetery historian and author Ron Romano will describe the anatomy of a gravestone\, discuss the types of materials found in our burial grounds and explain the meanings of dozens of gravestone icons. This will be a most engaging hour!<br />\n<br />\nLight refreshments will be provided!
LOCATION:Brick Store Museum Program Center 117 Main St\, Kennebunk\, ME
UID:e.1923.9792
SEQUENCE:3
DTSTAMP:20260425T171703Z
URL:https://chamber.gokennebunks.com/events/details/anatomy-of-gravestones-lecture-9792
END:VEVENT

END:VCALENDAR
