BEGIN:VCALENDAR
VERSION:2.0
PRODID:-//ChamberMaster//Event Calendar 2.0//EN
METHOD:PUBLISH
X-PUBLISHED-TTL:P3D
REFRESH-INTERVAL:P3D
CALSCALE:GREGORIAN
BEGIN:VEVENT
DTSTART:20240323T190000Z
DTEND:20240323T210000Z
X-MICROSOFT-CDO-ALLDAYEVENT:FALSE
SUMMARY:An Independent Life: The Story of Edith Barry
DESCRIPTION:The Brick Store Museum's founder\, Edith Barry\, led a unique life in the early 20th century. Having never married\, she traveled the world until the end of her life and painted hundreds of artworks along the way. This specially-crafted event features a one-on-one discussion between Executive Director Cynthia Walker and Elizabeth Grant\, who plays Edith Barry in the Museum's All Souls' Walk\, to illustrate the life of Edith Barry\; an up-close exploration of Edith's own artifacts in the Museum's collections\; and complimented by a dessert bar of treats made from Edith's Cookbook\, a real cookbook used by Edith Barry in her home kitchen in the mid-20th Century. This event raises funds to support Edith's legacy of museum education and access for all. $25/$20 tickets. Register at www.brickstoremuseum.org/calendar
X-ALT-DESC;FMTTYPE=text/html:<span style="color:#050505">The Brick Store Museum&rsquo\;s founder\, Edith Barry\, led a unique life in the early 20<sup>th</sup> century. Having never married\, she traveled the world until the end of her life and painted hundreds of artworks along the way. This specially-crafted event features a one-on-one discussion between Executive Director Cynthia Walker and Elizabeth Grant\, who plays Edith Barry in the Museum&rsquo\;s All Souls&rsquo\; Walk\, to illustrate the life of Edith Barry\; an up-close exploration of Edith&rsquo\;s own artifacts in the Museum&rsquo\;s collections\; and complimented by a dessert bar of treats made from Edith&rsquo\;s Cookbook\, a real cookbook used by Edith Barry in her home kitchen in the mid-20th Century. This event raises funds to support Edith&rsquo\;s legacy of museum education and access for all. $25/$20 tickets. </span><span style="color:black">Register at <a href="http://www.brickstoremuseum.org/">www.brickstoremuseum.org</a></span><a href="http://www.brickstoremuseum.org/calendar">/calendar</a>
LOCATION:117 Main Street\, Kennebunk\, ME 04043
UID:e.1923.24501
SEQUENCE:3
DTSTAMP:20260421T180815Z
URL:https://chamber.gokennebunks.com/events/details/an-independent-life-the-story-of-edith-barry-24501
END:VEVENT

END:VCALENDAR
