BEGIN:VCALENDAR
VERSION:2.0
PRODID:-//ChamberMaster//Event Calendar 2.0//EN
METHOD:PUBLISH
X-PUBLISHED-TTL:P3D
REFRESH-INTERVAL:P3D
CALSCALE:GREGORIAN
BEGIN:VEVENT
DTSTART:20180325T190000Z
DTEND:20180325T210000Z
X-MICROSOFT-CDO-ALLDAYEVENT:FALSE
SUMMARY:An Afternoon of Sacred Music by Faure\, Lauridsen and Bernstein
DESCRIPTION:Palm Sunday concert featuring the music of Faure\, Lauridsen and Bernstein
X-ALT-DESC;FMTTYPE=text/html:Palm Sunday concert featuring the music of Faure\, Lauridsen and Bernstein
LOCATION:Christ Church\, 6 Dane Street\, Kennebunk
UID:e.1923.7156
SEQUENCE:3
DTSTAMP:20260425T183417Z
URL:https://chamber.gokennebunks.com/events/details/an-afternoon-of-sacred-music-by-faure-lauridsen-and-bernstein-7156
END:VEVENT

END:VCALENDAR
