BEGIN:VCALENDAR
VERSION:2.0
PRODID:-//ChamberMaster//Event Calendar 2.0//EN
METHOD:PUBLISH
X-PUBLISHED-TTL:P3D
REFRESH-INTERVAL:P3D
CALSCALE:GREGORIAN
BEGIN:VEVENT
DTSTART:20250119T000000Z
DTEND:20250119T020000Z
X-MICROSOFT-CDO-ALLDAYEVENT:FALSE
SUMMARY:American Idol Finalist Julia Gagnon
DESCRIPTION:Experience the electrifying talent of Maine's American Idol finalist Julia Gagnon\, live on the SPAC stage! After winning first place in Central Maine Idol in summer 2023\, Julia auditioned for American Idol\, where Lionel Richie\, Katy Perry\, and Luke Bryan gave her three emphatic "yeses" and one of only three platinum tickets\, sending her straight to Hollywood. Over a month of knockout performances on international television led her to be one of only seven remaining contestants\, with the entire state of Maine cheering her on. Now a college student at the University of Southern Maine\, Julia skillfully balances her studies with a rapidly growing music career. Her rise from local talent to national acclaim highlights her remarkable skill and determination. Join us for a memorable evening as Julia Gagnon takes the stage with her powerful voice and magnetic presence. Don't miss this chance to witness a star in the making! Tickets are $30-$44\, with discounts for seniors\, students\, military veterans and season subscribers. Call the box office at (207) 206-1126\, or visit in person Tuesdays and Thursdays from 9 a.m.-noon. FB event: https://www.facebook.com/share/1qotZR6BZ4WxU1q5/
X-ALT-DESC;FMTTYPE=text/html:Experience the electrifying talent of Maine&rsquo\;s American Idol finalist Julia Gagnon\, live on the SPAC stage! After winning first place in Central Maine Idol in summer 2023\, Julia auditioned for American Idol\, where Lionel Richie\, Katy Perry\, and Luke Bryan gave her three emphatic &ldquo\;yeses&rdquo\; and one of only three platinum tickets\, sending her straight to Hollywood. Over a month of knockout performances on international television led her to be one of only seven remaining contestants\, with the entire state of Maine cheering her on. Now a college student at the University of Southern Maine\, Julia skillfully balances her studies with a rapidly growing music career. Her rise from local talent to national acclaim highlights her remarkable skill and determination. Join us for a memorable evening as Julia Gagnon takes the stage with her powerful voice and magnetic presence. Don&rsquo\;t miss this chance to witness a star in the making! Tickets are $30-$44\, with discounts for seniors\, students\, military veterans and season subscribers. Call the box office at (207) 206-1126\, or visit in person Tuesdays and Thursdays from 9 a.m.-noon. FB event: https://www.facebook.com/share/1qotZR6BZ4WxU1q5/
LOCATION:Sanford Performing Arts Center\, 100 Alumni Blvd.\, Sanford
UID:e.1923.30968
SEQUENCE:3
DTSTAMP:20260421T003419Z
URL:https://chamber.gokennebunks.com/events/details/american-idol-finalist-julia-gagnon-30968
END:VEVENT

END:VCALENDAR
