BEGIN:VCALENDAR
VERSION:2.0
PRODID:-//ChamberMaster//Event Calendar 2.0//EN
METHOD:PUBLISH
X-PUBLISHED-TTL:P3D
REFRESH-INTERVAL:P3D
CALSCALE:GREGORIAN
BEGIN:VEVENT
DTSTART:20171003T203000Z
DTEND:20171003T220000Z
X-MICROSOFT-CDO-ALLDAYEVENT:FALSE
SUMMARY:Alzheimer’s Informational Workshop
DESCRIPTION:The warning signs of Alzheimer's disease are often dismissed as side effects of normal aging. If you or someone you know is experiencing memory loss or behavioral changes\, it's time to learn the facts. Early detention gives you a chance to begin drug therapy\, enroll in clinical studies and plan for the future. Attend this interactive workshop to learn the 10 Warning Signs of Alzheimer's disease. We'll separate myth from reality and address commonly-held fears about Alzheimer's in America. Hear from people who have the disease and find out how to recognize the signs in yourself and others.
X-ALT-DESC;FMTTYPE=text/html:The warning signs of Alzheimer&rsquo\;s disease are often dismissed as side effects of normal aging. If you or someone you know is experiencing memory loss or behavioral changes\, it&rsquo\;s time to learn the facts. Early detention gives you a chance to begin drug therapy\, enroll in clinical studies and plan for the future. Attend this interactive workshop to learn the 10 Warning Signs of Alzheimer&rsquo\;s disease. We&rsquo\;ll separate myth from reality and address commonly-held fears about Alzheimer&rsquo\;s in America. Hear from people who have the disease and find out how to recognize the signs in yourself and others.
LOCATION:Massabesic Lions Club 813 Main Street\, Waterboro\, ME
UID:e.1923.6930
SEQUENCE:3
DTSTAMP:20260424T084129Z
URL:https://chamber.gokennebunks.com/events/details/alzheimer-s-informational-workshop-6930
END:VEVENT

END:VCALENDAR
