BEGIN:VCALENDAR
VERSION:2.0
PRODID:-//ChamberMaster//Event Calendar 2.0//EN
METHOD:PUBLISH
X-PUBLISHED-TTL:P3D
REFRESH-INTERVAL:P3D
CALSCALE:GREGORIAN
BEGIN:VEVENT
DTSTART:20191013T000000Z
DTEND:20191013T023000Z
X-MICROSOFT-CDO-ALLDAYEVENT:FALSE
SUMMARY:Allan Harris Band presents "Long Live Nat King Cole"
DESCRIPTION:"My favorite singer ." Tony Bennett "[T]he most exciting young male singer on the scene ."The Wall Street Journal" DownBeat award winning jazz vocalist/guitarist/composer ALLAN HARRIS dubbed "the heir apparent to Nat King Cole" by the New York Times\, has enthralled audiences across the globe with his exciting renditions of Nat King Cole classics. Harris' recording of "Long Live the King" live at the Kennedy Center was the beginning of a series of electrifying performances at venues and festivals around the world from Dublin to Italy and from China to Russia. Allan Harris was also heralded by the Nelson Riddle family to honor Nat King Cole and Nelson Riddle in Dublin\, Ireland with the RTE Concert Orchestra. His critically acclaimed album "Long Live the King" was followed by "A Nat King Cole Christmas" recorded live at KUVO-Denver's premier jazz radio station. Harris has been featured with the Metropole Orchestra\, The Latvian Radio Orchestra\, The Turkish TRT Big Band\, the EFG London Jazz Festival Orchestra\, The Chicago Jazz Orchestra\, The Smithsonian Jazz Orchestra\, The Jazz at Lincoln Center Orchestra\, and the Moscow Jazz Orchestra. He kicks off the 2019 tour with his trio featuring award winning pianist Arcoiris Sandoval\, North Carolina's own\, drummer Shirazette Tinnin\, and Philadelphia bassist\, Nimrod Speaks.
X-ALT-DESC;FMTTYPE=text/html:&quot\;My favorite singer&hellip\;.&quot\; Tony Bennett &ldquo\;[T]he most exciting young male singer on the scene&hellip\;.&quot\;The Wall Street Journal&ldquo\; DownBeat award winning jazz vocalist/guitarist/composer ALLAN HARRIS dubbed &ldquo\;the heir apparent to Nat King Cole&rdquo\; by the New York Times\, has enthralled audiences across the globe with his exciting renditions of Nat King Cole classics. Harris&#39\; recording of &ldquo\;Long Live the King&rdquo\; live at the Kennedy Center was the beginning of a series of electrifying performances at venues and festivals around the world from Dublin to Italy and from China to Russia. Allan Harris was also heralded by the Nelson Riddle family to honor Nat King Cole and Nelson Riddle in Dublin\, Ireland with the RTE Concert Orchestra. His critically acclaimed album &ldquo\;Long Live the King&rdquo\; was followed by &ldquo\;A Nat King Cole Christmas&rdquo\; recorded live at KUVO-Denver&rsquo\;s premier jazz radio station. Harris has been featured with the Metropole Orchestra\, The Latvian Radio Orchestra\, The Turkish TRT Big Band\, the EFG London Jazz Festival Orchestra\, The Chicago Jazz Orchestra\, The Smithsonian Jazz Orchestra\, The Jazz at Lincoln Center Orchestra\, and the Moscow Jazz Orchestra. He kicks off the 2019 tour with his trio featuring award winning pianist Arcoiris Sandoval\, North Carolina&rsquo\;s own\, drummer Shirazette Tinnin\, and Philadelphia bassist\, Nimrod Speaks.
LOCATION:Vinegar Hill Music Theatre 53 Old Post Rd. Arundel\, ME 04046
UID:e.1923.13094
SEQUENCE:3
DTSTAMP:20260424T141047Z
URL:https://chamber.gokennebunks.com/events/details/allan-harris-band-presents-long-live-nat-king-cole-13094
END:VEVENT

END:VCALENDAR
