BEGIN:VCALENDAR
VERSION:2.0
PRODID:-//ChamberMaster//Event Calendar 2.0//EN
METHOD:PUBLISH
X-PUBLISHED-TTL:P3D
REFRESH-INTERVAL:P3D
CALSCALE:GREGORIAN
BEGIN:VEVENT
DTSTART;VALUE=DATE:20220723
DTEND;VALUE=DATE:20220724
TRANSP:TRANSPARENT
X-MICROSOFT-CDO-ALLDAYEVENT:TRUE
SUMMARY:All Women Crew Day at Seashore Trolley Museum
DESCRIPTION:In recognition of their contribution\, Seashore Trolley Museum is proud to present our third completely All Women Crew Day! All Women Crew Day is one way the Museum highlights the continued role women have played throughout its history. On Saturday\, July 23\, our conductors\, motormen\, docents and even the dispatcher will all be women! We hope you can join us and celebrate #WomenInHistory!\n\n\nWe hope to see you!
X-ALT-DESC;FMTTYPE=text/html:<div>\n<p>In recognition of their contribution\, Seashore Trolley Museum is proud to present our third completely All Women Crew Day! All Women Crew Day is one way the Museum highlights the continued role women have played throughout its history. On Saturday\, July 23\, our conductors\, motormen\, docents and even the dispatcher will all be women! We hope you can join us and celebrate&nbsp\;<a class="oajrlxb2 g5ia77u1 qu0x051f esr5mh6w e9989ue4 r7d6kgcz rq0escxv nhd2j8a9 nc684nl6 p7hjln8o kvgmc6g5 cxmmr5t8 oygrvhab hcukyx3x jb3vyjys rz4wbd8a qt6c0cv9 a8nywdso i1ao9s8h esuyzwwr f1sip0of lzcic4wl gpro0wi8 oo9gr5id lrazzd5p" href="https://www.facebook.com/hashtag/womeninhistory?__eep__=6&amp\;__cft__[0]=AZXo8fq5_Rqp24XJkBIOR7jkPpUv6xwz2qVNMEuKYr2NSA7-7_Bd53rNfiYdo9YgW-bXuMXM-oD2GUeyIRZ6XOkRH9qAYWbRuD8ZW1f3YZyV1edBj2IeEow1IzG3Uy3x_X9diC5H8f_Vkke7mc7DBLWS&amp\;__tn__=q" style="box-sizing: border-box\; background-color: transparent\; color: rgb(51\, 122\, 183)\; text-decoration-line: none\;">#WomenInHistory</a>!</p>\n</div>\n\n<div>We hope to see you!</div>\n
LOCATION:Seashore Trolley Museum 195 Log Cabin Road Kennebunkport\, ME 04046
UID:e.1923.17448
SEQUENCE:3
DTSTAMP:20260419T175940Z
URL:https://chamber.gokennebunks.com/events/details/all-women-crew-day-at-seashore-trolley-museum-17448
END:VEVENT

END:VCALENDAR
