BEGIN:VCALENDAR
VERSION:2.0
PRODID:-//ChamberMaster//Event Calendar 2.0//EN
METHOD:PUBLISH
X-PUBLISHED-TTL:P3D
REFRESH-INTERVAL:P3D
CALSCALE:GREGORIAN
BEGIN:VEVENT
DTSTART:20241207T190000Z
DTEND:20241207T220000Z
X-MICROSOFT-CDO-ALLDAYEVENT:FALSE
SUMMARY:All That Glitters Holiday Open House at KW Contemporary Art
DESCRIPTION:Join us for a festive Holiday Open House at KW Contemporary Art\, featuring our All That Glitters and Wonder exhibitions! Discover stunning works of art inspired by the sparkle of the holiday season or the magic of winter wonder\, with pieces priced at $1\,000 and under perfect for gifting or treating yourself. Indulge in a luxe hot cocoa bar and delicious holiday treats as you explore beautiful\, one-of-a-kind artwork. It's the perfect way to enjoy an enchanting afternoon before the town's tree lighting. Don't miss this special celebration of art and holiday cheer!
X-ALT-DESC;FMTTYPE=text/html:Join us for a festive <em>Holiday Open House</em> at KW Contemporary Art\, featuring our <em>All That Glitters</em> and <em>Wonder</em> exhibitions! Discover stunning works of art inspired by the sparkle of the holiday season or the magic of winter wonder\, with pieces priced at $1\,000 and under&mdash\;perfect for gifting or treating yourself. Indulge in a luxe hot cocoa bar and delicious holiday treats as you explore beautiful\, one-of-a-kind artwork. It&#39\;s the perfect way to enjoy an enchanting afternoon before the town&#39\;s tree lighting. Don&rsquo\;t miss this special celebration of art and holiday cheer!
LOCATION:184 Port Rd\, Kennebunk\, ME 04043
UID:e.1923.31121
SEQUENCE:3
DTSTAMP:20260421T032804Z
URL:https://chamber.gokennebunks.com/events/details/all-that-glitters-holiday-open-house-at-kw-contemporary-art-31121
END:VEVENT

END:VCALENDAR
