BEGIN:VCALENDAR
VERSION:2.0
PRODID:-//ChamberMaster//Event Calendar 2.0//EN
METHOD:PUBLISH
X-PUBLISHED-TTL:P3D
REFRESH-INTERVAL:P3D
CALSCALE:GREGORIAN
BEGIN:VEVENT
DTSTART:20191026T160000Z
DTEND:20191026T190000Z
X-MICROSOFT-CDO-ALLDAYEVENT:FALSE
SUMMARY:All Souls' Walk
DESCRIPTION:The Brick Store Museum will once again make spirits come alive for one afternoon for its All Souls' Walk! The popular Halloween event is now in its 16th year. Continuous tours will explore Hope Cemetery every 20 minutes\, and will begin at 12:00pm\, with the last tour departing at 3:00pm. Tickets are $10 per person\, $30 per family (max). The narrated historical walks begin at the Brick Store Museum at 117 Main Street\, Kennebunk\, and cover a half-mile loop through Kennebunk's Hope Cemetery\, lasting approximately one hour. Costumed interpreters portray the historical figures\, and share their stories of love\, loss\, and fate. Not too spooky\, it's a perfect activity for the whole family. Participants visit more than a dozen gravesites and learn local history through the fascinating and often tragic tales of residents from bygone eras. Tours conclude back at the Museum\, where guests are invited to enjoy cider and treats while viewing the museum's fall exhibitions\, including original art by members of "All Hands on Deck\," a society of professional illustrators based out of Portland\, Maine\; an exhibit honoring the Centennial of Kennebunk American Legion Webber-Lefebvre Post 74\; two galleries of displays exploring the use of PATTERNS in surface design\; and works of fiber sculpture and acrylics by Rosalind Fedeli & Susan Barrett Merrill in the Bauman Family Gallery. The event is supported by the Morton Kelly Charitable Trust. The Museum especially thanks Friends of Hope Cemetery and Woods for once again hosting the All Souls' Walk this year.
X-ALT-DESC;FMTTYPE=text/html:The Brick Store Museum will once again make spirits come alive for one afternoon for its All Souls&rsquo\; Walk! The popular Halloween event is now in its 16th year. Continuous tours will explore Hope Cemetery every 20 minutes\, and will begin at 12:00pm\, with the last tour departing at 3:00pm. Tickets are $10 per person\, $30 per family (max). The narrated historical walks begin at the Brick Store Museum at 117 Main Street\, Kennebunk\, and cover a half-mile loop through Kennebunk&rsquo\;s Hope Cemetery\, lasting approximately one hour. Costumed interpreters portray the historical figures\, and share their stories of love\, loss\, and fate. Not too spooky\, it&rsquo\;s a perfect activity for the whole family. Participants visit more than a dozen gravesites and learn local history through the fascinating and often tragic tales of residents from bygone eras. Tours conclude back at the Museum\, where guests are invited to enjoy cider and treats while viewing the museum&rsquo\;s fall exhibitions\, including original art by members of &quot\;All Hands on Deck\,&quot\; a society of professional illustrators based out of Portland\, Maine\; an exhibit honoring the Centennial of Kennebunk American Legion Webber-Lefebvre Post 74\; two galleries of displays exploring the use of PATTERNS in surface design\; and works of fiber sculpture and acrylics by Rosalind Fedeli &amp\; Susan Barrett Merrill in the Bauman Family Gallery. The event is supported by the Morton Kelly Charitable Trust. The Museum especially thanks Friends of Hope Cemetery and Woods for once again hosting the All Souls&rsquo\; Walk this year.
LOCATION:Brick Store Museum\, 117 Main Street\, Kennebunk\, Maine
UID:e.1923.15488
SEQUENCE:3
DTSTAMP:20260424T140756Z
URL:https://chamber.gokennebunks.com/events/details/all-souls-walk-10-26-2019-15488
END:VEVENT

END:VCALENDAR
