BEGIN:VCALENDAR
VERSION:2.0
PRODID:-//ChamberMaster//Event Calendar 2.0//EN
METHOD:PUBLISH
X-PUBLISHED-TTL:P3D
REFRESH-INTERVAL:P3D
CALSCALE:GREGORIAN
BEGIN:VEVENT
DTSTART:20250509T133000Z
DTEND:20250509T183000Z
X-MICROSOFT-CDO-ALLDAYEVENT:FALSE
SUMMARY:All About Owls Community Day
DESCRIPTION:Join us for a day of owl activities as we celebrate these amazing animals! The Center for Wildlife will bring their non-releasable owl ambassadors for a presentation that includes learning about habitats\, diets\, calls\, and tips on how to spot them in the wild. We'll learn how to help steward the environment that we share with owls and all creatures. After the presentation\, we'll also play some Predator & Prey games and have lunch and exploration time. In the afternoon\, we'll dissect owl pellets\, and create owl drawings. \n\nWhat to Bring: a bag lunch and plenty of snacks\, a water bottle. Remember to dress for the weather for all our outdoor time!\n\nNote: adult accompaniment is required for unenrolled learners
X-ALT-DESC;FMTTYPE=text/html:<h4>Join us for a day of owl activities as we celebrate these amazing animals! The Center for Wildlife will bring their non-releasable owl ambassadors for a presentation that includes learning about habitats\, diets\, calls\, and tips on how to spot them in the wild. We&rsquo\;ll learn how to help steward the environment that we share with owls and all creatures. After the presentation\, we&rsquo\;ll also play some Predator &amp\; Prey games and have lunch and exploration time. In the afternoon\, we&rsquo\;ll dissect owl pellets\, and create owl drawings.&nbsp\;</h4>\n\n<p><strong>What to Bring:</strong><strong> </strong>a bag lunch and plenty of snacks\, a water bottle. Remember to dress for the weather for all our outdoor time!</p>\n\n<p><strong>Note: adult accompaniment is required for unenrolled learners</strong></p>\n
LOCATION:Meet: @School Around Us
UID:e.1923.34218
SEQUENCE:3
DTSTAMP:20260421T045232Z
URL:https://chamber.gokennebunks.com/events/details/all-about-owls-community-day-34218
END:VEVENT

END:VCALENDAR
