BEGIN:VCALENDAR
VERSION:2.0
PRODID:-//ChamberMaster//Event Calendar 2.0//EN
METHOD:PUBLISH
X-PUBLISHED-TTL:P3D
REFRESH-INTERVAL:P3D
CALSCALE:GREGORIAN
BEGIN:VEVENT
DTSTART:20190309T200000Z
DTEND:20190309T220000Z
X-MICROSOFT-CDO-ALLDAYEVENT:FALSE
SUMMARY:Afternoon Tea with Edith Barry
DESCRIPTION:Spend a cozy afternoon at the Brick Store Museum! Enjoy an afternoon tea (complete with sweet and savory bites) while learning about the history of American tea practices from certified tea specialist Jan Ferland. A visit from the Museum's founder\, Edith Cleaves Barry (1884-1969)\, will complete the afternoon as she narrates her life of travel and art at the turn of the 20th Century. Limited to 24 guests. \n\nThe tea runs from 3:00pm - 5:00pm. Tickets must be purchased in advance: $20\, or $15 for Museum members. Visit us online or call the Museum at (207)985-4802. Tickets are limited!
X-ALT-DESC;FMTTYPE=text/html:<p>Spend a cozy afternoon at the Brick Store Museum! Enjoy an afternoon tea (complete with sweet and savory bites) while learning about the history of American tea practices from certified tea specialist Jan Ferland. A visit from the Museum&#39\;s founder\, Edith Cleaves Barry (1884-1969)\, will complete the afternoon as she narrates her life of travel and art at the turn of the 20th Century. Limited to 24 guests.&nbsp\;</p>\n\n<p>The tea runs from 3:00pm - 5:00pm. Tickets must be purchased in advance: $20\, or $15 for Museum members. Visit us online or call the Museum at (207)985-4802. Tickets are limited!&nbsp\;</p>\n
LOCATION:Brick Store Museum 117 Main Street Kennebunk\, Maine\, 04043
UID:e.1923.13084
SEQUENCE:3
DTSTAMP:20260425T012934Z
URL:https://chamber.gokennebunks.com/events/details/afternoon-tea-with-edith-barry-13084
END:VEVENT

END:VCALENDAR
