BEGIN:VCALENDAR
VERSION:2.0
PRODID:-//ChamberMaster//Event Calendar 2.0//EN
METHOD:PUBLISH
X-PUBLISHED-TTL:P3D
REFRESH-INTERVAL:P3D
CALSCALE:GREGORIAN
BEGIN:VEVENT
DTSTART:20250820T210000Z
DTEND:20250820T230000Z
X-MICROSOFT-CDO-ALLDAYEVENT:FALSE
SUMMARY:After Hours: Wallingford Farm Garden Party
DESCRIPTION:Join us for Business After Hours at Wallingford Farm in Kennebunk!\n\n\n\nThis garden party will have mocktails made with herbs from the garden\, their famous pie ala mode\, shopping\, prizes and fun!
X-ALT-DESC;FMTTYPE=text/html:Join us for Business After Hours at Wallingford Farm in Kennebunk!<br />\n<br />\nThis garden party will have mocktails made with herbs from the garden\, their famous pie ala mode\, shopping\, prizes and fun!&nbsp\;<br />\n<br />\n&nbsp\;
LOCATION:21 York Street\, Kennebunk
UID:e.1923.35079
SEQUENCE:3
DTSTAMP:20260421T124325Z
URL:https://chamber.gokennebunks.com/events/details/after-hours-wallingford-farm-garden-party-35079
END:VEVENT

END:VCALENDAR
