BEGIN:VCALENDAR
VERSION:2.0
PRODID:-//ChamberMaster//Event Calendar 2.0//EN
METHOD:PUBLISH
X-PUBLISHED-TTL:P3D
REFRESH-INTERVAL:P3D
CALSCALE:GREGORIAN
BEGIN:VEVENT
DTSTART:20230824T210000Z
DTEND:20230824T230000Z
X-MICROSOFT-CDO-ALLDAYEVENT:FALSE
SUMMARY:After Hours at the Seashore Trolley Museum with Revolution Rail
DESCRIPTION:Come on over and join us for our Business After Hours at the Seashore Trolley Museum with co-host Revolution Rail! \n\n\n\nThursday\, August 24 from 5-7pm.\n\n\n\nSpend the evening exploring the first and largest electric railway museum in the world. They will have a full cook-out dinner\, refreshing craft beer and door prizes\, too!\n\nTrolley rides and railbike rides will be offered throughout the event!\n\n\n\nTickets will be available for purchase at the door. Pre-purchased tickets may ease the wait time at the check-in table.
X-ALT-DESC;FMTTYPE=text/html:<span style="font-size:18px\;"><span style="font-size:20px\;"><strong>Come on over and join us for our Business After Hours at the Seashore Trolley Museum with co-host Revolution Rail!&nbsp\;</strong></span><br />\n<br />\n<strong>Thursday\,&nbsp\;August 24 from 5-7pm.</strong><br />\n<br />\nSpend the evening exploring the first and largest electric railway museum in the world. They will have a full cook-out dinner\, refreshing craft beer and door prizes\, too!<br />\n<span style="color: rgb(5\, 5\, 5)\; font-family: &quot\;Segoe UI Historic&quot\;\, &quot\;Segoe UI&quot\;\, Helvetica\, Arial\, sans-serif\;"><span style="font-family:arial\;">Trolley rides and railbike rides will be offered throughout the event!</span></span><br />\n<br />\nTickets will be available for purchase at the door. Pre-purchased tickets may ease the wait time at the check-in table.</span>
LOCATION:195 Log Cabin Road\, Kennebunkport
UID:e.1923.21504
SEQUENCE:3
DTSTAMP:20260422T034111Z
URL:https://chamber.gokennebunks.com/events/details/after-hours-at-the-seashore-trolley-museum-with-revolution-rail-21504
END:VEVENT

END:VCALENDAR
