BEGIN:VCALENDAR
VERSION:2.0
PRODID:-//ChamberMaster//Event Calendar 2.0//EN
METHOD:PUBLISH
X-PUBLISHED-TTL:P3D
REFRESH-INTERVAL:P3D
CALSCALE:GREGORIAN
BEGIN:VEVENT
DTSTART:20241023T213000Z
DTEND:20241023T233000Z
X-MICROSOFT-CDO-ALLDAYEVENT:FALSE
SUMMARY:Adult Printmaking Workshop: Halloween Tote Bag
DESCRIPTION:Explore the joys of printmaking with this themed workshop! Learn basic linoleum block printing skills with a spooky twist. Attendees will learn how to design an image for printing\, how to transfer to the block and carve\, and how to print onto fabric. Each attendee will get to go home with their very own Halloween tote bag! \n\nThis class is for beginners. All materials are provided. Come relax and create. Please bring a water bottle with your beverage of choice. Adults 18+ are welcome to join.\n\nADDITIONAL TOTE OFFER: Students will have the option to purchase an additional tote for $15.00 during the workshop if they want to make an additional printed tote.
X-ALT-DESC;FMTTYPE=text/html:<p><span style="color:rgb(0\, 0\, 0)">Explore the joys of printmaking with this themed workshop! Learn basic linoleum block printing skills with a spooky twist. Attendees will learn how to design an image for printing\, how to transfer to the block and carve\, and how to print onto fabric. Each attendee will get to go home with their very own Halloween tote bag! </span></p>\n\n<p><span style="color:rgb(0\, 0\, 0)">This class is for beginners. All materials are provided. Come relax and create. Please bring a water bottle with your beverage of choice. Adults 18+ are welcome to join.</span></p>\n\n<p><u style="color:rgb(255\, 0\, 0)"><strong>ADDITIONAL TOTE OFFER:&nbsp\;</strong>Students will have the option to purchase an additional tote for $15.00 during the workshop if they want&nbsp\;to make an additional printed tote.</u></p>\n
LOCATION:River Tree Arts 35 Western Ave.\, Kennebunk 04043
UID:e.1923.30987
SEQUENCE:3
DTSTAMP:20260421T100058Z
URL:https://chamber.gokennebunks.com/events/details/adult-printmaking-workshop-halloween-tote-bag-30987
END:VEVENT

END:VCALENDAR
