BEGIN:VCALENDAR
VERSION:2.0
PRODID:-//ChamberMaster//Event Calendar 2.0//EN
METHOD:PUBLISH
X-PUBLISHED-TTL:P3D
REFRESH-INTERVAL:P3D
CALSCALE:GREGORIAN
BEGIN:VEVENT
DTSTART:20241211T223000Z
DTEND:20241212T003000Z
X-MICROSOFT-CDO-ALLDAYEVENT:FALSE
SUMMARY:Adult Mini Acrylic Painting Gifts Workshop
DESCRIPTION:Enjoy an evening of painting and socializing\, designed to  get you into the holiday spirit! Channel your inner Picasso as we paint mini 3"x3" magnetic canvases\, perfect holiday gifting! Local artist Marguerite Genest will guide you through the step-by-step process using acrylic paints.\n\n\n\n - $40 p/person\, includes all supplies\n\n - Max. # of attendees: 16
X-ALT-DESC;FMTTYPE=text/html:<span style="color:rgb(68\, 68\, 68)\; font-family:helvetica neue\,helvetica\,arial\,sans-serif\; font-size:16px">Enjoy an evening of painting and socializing\, designed to&nbsp\; get you into the holiday spirit! Channel your inner Picasso as we paint mini 3&rdquo\;x3&rdquo\; magnetic canvases\, perfect holiday gifting! Local artist Marguerite Genest will guide you through the step-by-step process using acrylic paints.<br />\n<br />\n&nbsp\;- $40 p/person\, includes all supplies<br />\n&nbsp\;- Max. # of attendees: 16</span>
LOCATION:River Tree Arts 35 Western Ave.\, Kennebunk\, ME 04043
UID:e.1923.31152
SEQUENCE:3
DTSTAMP:20260421T021008Z
URL:https://chamber.gokennebunks.com/events/details/adult-mini-acrylic-painting-gifts-workshop-31152
END:VEVENT

END:VCALENDAR
