BEGIN:VCALENDAR
VERSION:2.0
PRODID:-//ChamberMaster//Event Calendar 2.0//EN
METHOD:PUBLISH
X-PUBLISHED-TTL:P3D
REFRESH-INTERVAL:P3D
CALSCALE:GREGORIAN
BEGIN:VEVENT
DTSTART:20231206T230000Z
DTEND:20231207T000000Z
X-MICROSOFT-CDO-ALLDAYEVENT:FALSE
SUMMARY:Prelude Adult Gingerbread House Workshop at The Nonantum Resort
DESCRIPTION:Prelude Adult Gingerbread House Workshop\n\nat The Nonantum Resort\, 95 Ocean Ave\, Kennebunkport\, Maine\n\nWednesday\, December 6\, 6pm-7pm\n\nGet your home design on! Join us for a craft Gingerbread House Making class\; we'll provide the homemade gingerbread\, upscale design elements (candy!)\, and complimentary a signature holiday cocktail.\n\n\n\nCost: $55\, includes all materials and one signature holiday cocktail\n\n\n\nages 21+
X-ALT-DESC;FMTTYPE=text/html:<h2><strong>Prelude Adult Gingerbread House Workshop</strong></h2>\n\n<p>at The Nonantum Resort\, 95 Ocean Ave\, Kennebunkport\, Maine</p>\n\n<p>Wednesday\, December 6\, 6pm-7pm</p>\n\n<p>Get your home design on! Join us for a craft Gingerbread House Making class\; we&#39\;ll provide the homemade gingerbread\, upscale design elements (candy!)\, and complimentary a signature holiday cocktail.<br />\n<br />\nCost: $55\, includes all materials and one signature holiday cocktail<br />\n<br />\nages 21+</p>\n
LOCATION:The Nonantum Resort\, 95 Ocean Ave\, Kennebunkport\, Maine
UID:e.1923.23131
SEQUENCE:3
DTSTAMP:20260421T221527Z
URL:https://chamber.gokennebunks.com/events/details/adult-gingerbread-house-workshop-at-the-nonantum-resort-23131
END:VEVENT

END:VCALENDAR
