BEGIN:VCALENDAR
VERSION:2.0
PRODID:-//ChamberMaster//Event Calendar 2.0//EN
METHOD:PUBLISH
X-PUBLISHED-TTL:P3D
REFRESH-INTERVAL:P3D
CALSCALE:GREGORIAN
BEGIN:VEVENT
DTSTART:20240424T170000Z
DTEND:20240529T190000Z
X-MICROSOFT-CDO-ALLDAYEVENT:FALSE
SUMMARY:ADULT CERAMICS
DESCRIPTION:WEDNESDAYS\, 1:00-3:00PM\n\n6 weeks\; April 24   May 29 (makeup if RTA cancels a class: 6/5)\n\nAdults 18+\n\nInstructor: Hannah Medovnikov\n\n\n\nJoin ceramic artist Hannah Medovnikov for a fun and informative\, hands-in-clay experience. In this class\, students will be introduced to a variety of hand-building techniques to create beautiful and functional works of art inspired by everyday life. Students are encouraged to research work that inspires them in order to achieve their creative goals alongside instruction and guidance. Students will also have the chance to work on the wheel to create mugs and bowls. The last week of class will be focused on basic glaze application and all work will be fired in RTA's kiln which will make pottery durable and functional. Max attendees 8 per session.\n\n\n\nREGISTER HERE: https://rivertree.app.neoncrm.com/np/clients/rivertree/event.jsp?event=12295&\n\n\n\nMembers: $225 | Non-Members: $255
X-ALT-DESC;FMTTYPE=text/html:WEDNESDAYS\, 1:00-3:00PM<br />\n6 weeks\; April 24 &ndash\; May 29 (makeup if RTA cancels a class: 6/5)<br />\nAdults 18+<br />\nInstructor: Hannah Medovnikov<br />\n<br />\nJoin ceramic artist Hannah Medovnikov for a fun and informative\, hands-in-clay experience. In this class\, students will be introduced to a variety of hand-building techniques to create beautiful and functional works of art inspired by everyday life. Students are encouraged to research work that inspires them in order to achieve their creative goals alongside instruction and guidance. Students will also have the chance to work on the wheel to create mugs and bowls. The last week of class will be focused on basic glaze application and all work will be fired in RTA&rsquo\;s kiln which will make pottery durable and functional. Max attendees 8 per session.<br />\n<br />\nREGISTER HERE:&nbsp\;<a href="https://rivertree.app.neoncrm.com/np/clients/rivertree/event.jsp?event=12295&amp\;">https://rivertree.app.neoncrm.com/np/clients/rivertree/event.jsp?event=12295&amp\;</a><br />\n<br />\nMembers: $225 | Non-Members: $255
LOCATION:River Tree Arts\, 35 Western Ave.\, Kennebunk\, Maine
UID:e.1923.24555
SEQUENCE:3
DTSTAMP:20260421T164616Z
URL:https://chamber.gokennebunks.com/events/details/adult-ceramics-24555
END:VEVENT

END:VCALENDAR
