BEGIN:VCALENDAR
VERSION:2.0
PRODID:-//ChamberMaster//Event Calendar 2.0//EN
METHOD:PUBLISH
X-PUBLISHED-TTL:P3D
REFRESH-INTERVAL:P3D
CALSCALE:GREGORIAN
BEGIN:VEVENT
DTSTART:20231202T150000Z
DTEND:20231202T230000Z
X-MICROSOFT-CDO-ALLDAYEVENT:FALSE
SUMMARY:Adopt-A-Tree Festival for Lucky Pup Rescue
DESCRIPTION:Join us for our 8th annual Adopt-A-Tree Festival! Saturday 12/2 10:00-6:00pm Sunday 12/3 10:00-2:00pm We are excited to announce our return to Vinegar Hill Music Theatre! We will have a variety of beautifully decorated Christmas Trees and Wreaths that we are raffling off! Aside from all the gorgeous decorations\, you may also find fun exciting prizes within the trees! In past years\, trees have included games\, toys (for dogs and kids)\, gift cards\, cash and SOOO much more! **Don't need a tree? No problem! Collect all of your prizes and decorations\, and donate the tree back to us to use next year!** We will also have a gift shop with our annual commemorative ornaments\, dog toys from Super Dogs & Cats\, dog treats and other fun goodies! We will have PICTURES WITH SANTA PAWS\, games for the kids\, and lots of other holiday magic! INTERESTED IN SPONSORING our event or donating a tree? EMAIL US: teamlpr@luckypuprescuemaine.org or go to the Google form here: https://forms.gle/wA2orV8Uj8RNpn3Y8 Our website link has a google form and pdf forms to sign up to donate a tree or wreath\, or to sponsor our event. Check here: www.luckypuprescue.org/adopt-a-tree-festival
X-ALT-DESC;FMTTYPE=text/html:Join us for our 8th annual Adopt-A-Tree Festival! Saturday 12/2 10:00-6:00pm Sunday 12/3 10:00-2:00pm We are excited to announce our return to Vinegar Hill Music Theatre! We will have a variety of beautifully decorated Christmas Trees and Wreaths that we are raffling off! Aside from all the gorgeous decorations\, you may also find fun exciting prizes within the trees! In past years\, trees have included games\, toys (for dogs and kids)\, gift cards\, cash and SOOO much more! **Don&#39\;t need a tree? No problem! Collect all of your prizes and decorations\, and donate the tree back to us to use next year!** We will also have a gift shop with our annual commemorative ornaments\, dog toys from Super Dogs &amp\; Cats\, dog treats and other fun goodies! We will have PICTURES WITH SANTA PAWS\, games for the kids\, and lots of other holiday magic! INTERESTED IN SPONSORING our event or donating a tree? EMAIL US: teamlpr@luckypuprescuemaine.org or go to the Google form here: https://forms.gle/wA2orV8Uj8RNpn3Y8 Our website link has a google form and pdf forms to sign up to donate a tree or wreath\, or to sponsor our event. Check here: www.luckypuprescue.org/adopt-a-tree-festival
LOCATION:Vinegar Hill Music Theatre 53 Old Post Rd. Arundel\, ME 04046
UID:e.1923.23097
SEQUENCE:3
DTSTAMP:20260421T232620Z
URL:https://chamber.gokennebunks.com/events/details/adopt-a-tree-festival-for-lucky-pup-rescue-23097
END:VEVENT

END:VCALENDAR
