BEGIN:VCALENDAR
VERSION:2.0
PRODID:-//ChamberMaster//Event Calendar 2.0//EN
METHOD:PUBLISH
X-PUBLISHED-TTL:P3D
REFRESH-INTERVAL:P3D
CALSCALE:GREGORIAN
BEGIN:VEVENT
DTSTART:20180708T000000Z
DTEND:20180708T020000Z
X-MICROSOFT-CDO-ALLDAYEVENT:FALSE
SUMMARY:Adam Ezra Group
DESCRIPTION:The Group is made up of lead singer\, songwriter and guitarist\, Adam Ezra\, Alex Martin on drums\, Turtle on percussion\, Corinna Smith on fiddle\, Francis Hickey on bass and Josh Gold on keys. Together they are creating a powerful\, inclusive community around AEG shows that is beginning to be compared to a social-movement as much as a traditional music fan-base.
X-ALT-DESC;FMTTYPE=text/html:The Group is made up of lead singer\, songwriter and guitarist\, Adam Ezra\, Alex Martin on drums\, Turtle on percussion\, Corinna Smith on fiddle\, Francis Hickey on bass and Josh Gold on keys. Together they are creating a powerful\, inclusive community around AEG shows that is beginning to be compared to a social-movement as much as a traditional music fan-base.
LOCATION:Vinegar Hill Music Theatre 53 Old Post Rd. Arundel\, ME 04046
UID:e.1923.7166
SEQUENCE:3
DTSTAMP:20260425T132545Z
URL:https://chamber.gokennebunks.com/events/details/adam-ezra-group-7166
END:VEVENT

END:VCALENDAR
