BEGIN:VCALENDAR
VERSION:2.0
PRODID:-//ChamberMaster//Event Calendar 2.0//EN
METHOD:PUBLISH
X-PUBLISHED-TTL:P3D
REFRESH-INTERVAL:P3D
CALSCALE:GREGORIAN
BEGIN:VEVENT
DTSTART:20191005T000000Z
DTEND:20191005T020000Z
X-MICROSOFT-CDO-ALLDAYEVENT:FALSE
SUMMARY:Adam Ezra Group
DESCRIPTION:It's difficult to impart the roots-steeped\, road-trippin' essence of the Adam Ezra Group into a single word\, but front man Adam Ezra nonetheless keeps one in mind as something of a mantra: COMMUNITY. To the musicians at the heart of AEG\, community is epitomized by a belief they all share\, one that has long doubled as a mission statement for the group: namely\, that making music together is itself a form of grassroots organizing\, capable of nothing less than changing the world.
X-ALT-DESC;FMTTYPE=text/html:It&rsquo\;s difficult to impart the roots-steeped\, road-trippin&rsquo\; essence of the Adam Ezra Group into a single word\, but front man Adam Ezra nonetheless keeps one in mind as something of a mantra: COMMUNITY. To the musicians at the heart of AEG\, community is epitomized by a belief they all share\, one that has long doubled as a mission statement for the group: namely\, that making music together is itself a form of grassroots organizing\, capable of nothing less than changing the world.
LOCATION:Vinegar Hill Music Theatre 53 Old Post Rd. Arundel\, ME 04046
UID:e.1923.13062
SEQUENCE:3
DTSTAMP:20260424T140638Z
URL:https://chamber.gokennebunks.com/events/details/adam-ezra-group-10-04-2019-13062
END:VEVENT

END:VCALENDAR
