BEGIN:VCALENDAR
VERSION:2.0
PRODID:-//ChamberMaster//Event Calendar 2.0//EN
METHOD:PUBLISH
X-PUBLISHED-TTL:P3D
REFRESH-INTERVAL:P3D
CALSCALE:GREGORIAN
BEGIN:VEVENT
DTSTART:20240819T140000Z
DTEND:20240823T160000Z
X-MICROSOFT-CDO-ALLDAYEVENT:FALSE
SUMMARY:ACT OUT THEATER CAMP
DESCRIPTION:10:00AM-12:00PM\n\nMONDAY-FRIDAY\, AUGUST 19-23 (5 days)\n\nGrades 3-8\n\nInstructor: Barbara Fraser\n\nIn this camp\, children will design their own (make believe) comedy improv weekly one-hour TV show. This would involve theme music\, designing the set\, improvisation games\, planning segments for the show\, regular guests and characters\, music\, and dance acts. All kinds of talent are welcome.\n\nMax attendees: 8\n\n\n\nREGISTER HERE: https://rivertree.app.neoncrm.com/np/clients/rivertree/event.jsp?event=12430&\n\n\n\nMembers: $165 | Non-Members: $180 (all supplies included)
X-ALT-DESC;FMTTYPE=text/html:<p><strong>10:00AM-12:00PM<br />\nMONDAY-FRIDAY\, AUGUST 19-23 (5 days)<br />\nGrades 3-8</strong><br />\n<em>Instructor: Barbara Fraser</em></p>\n\n<p>In this camp\, children will design their own (make believe) comedy improv weekly one-hour TV show. This would involve theme music\, designing the set\, improvisation games\, planning segments for the show\, regular guests and characters\, music\, and dance acts. All kinds of talent are welcome.</p>\n\n<p>Max attendees: 8<br />\n<br />\nREGISTER HERE:&nbsp\;<a href="https://rivertree.app.neoncrm.com/np/clients/rivertree/event.jsp?event=12430&amp\;">https://rivertree.app.neoncrm.com/np/clients/rivertree/event.jsp?event=12430&amp\;</a><br />\n<br />\nMembers: $165 | Non-Members: $180 (all supplies included)</p>\n
LOCATION:River Tree Arts\, 35 Western Ave.\, Kennebunk\, Maine
UID:e.1923.24538
SEQUENCE:3
DTSTAMP:20260421T124138Z
URL:https://chamber.gokennebunks.com/events/details/act-out-theater-camp-24538
END:VEVENT

END:VCALENDAR
