BEGIN:VCALENDAR
VERSION:2.0
PRODID:-//ChamberMaster//Event Calendar 2.0//EN
METHOD:PUBLISH
X-PUBLISHED-TTL:P3D
REFRESH-INTERVAL:P3D
CALSCALE:GREGORIAN
BEGIN:VEVENT
DTSTART:20230817T220000Z
DTEND:20230818T020000Z
X-MICROSOFT-CDO-ALLDAYEVENT:FALSE
SUMMARY:Above Board presents an Endless Summer Party at the Boathouse Waterfront Hotel & Restaurant
DESCRIPTION:Join us at our fifth annual fundraising event on Thursday\, August 17th\, at The Boathouse Restaurant in Kennebunkport. Enjoy a fabulous Endless Summer Party at the Boathouse\, where DJ Lloyd will be spinning tunes as guests dance\, mingle\, and take in Kennebunkport's beautiful waterfront. Sip on specialty cocktails\, craft beer\, and regional wine from local purveyors\, and sample the delicious local cuisine provided by The Boathouse Restaurant. The proceeds of this very special evening will directly support Believe in Kids Maine\, a non-profit organization that provides resources for foster children living in York County. Cocktail attire suggested.
X-ALT-DESC;FMTTYPE=text/html:Join us at our fifth annual fundraising event on Thursday\, August 17th\, at The Boathouse Restaurant in Kennebunkport. Enjoy a fabulous Endless Summer Party at the Boathouse\, where DJ Lloyd will be spinning tunes as guests dance\, mingle\, and take in Kennebunkport&rsquo\;s beautiful waterfront. Sip on specialty cocktails\, craft beer\, and regional wine from local purveyors\, and sample the delicious local cuisine provided by The Boathouse Restaurant. The proceeds of this very special evening will directly support Believe in Kids Maine\, a non-profit organization that provides resources for foster children living in York County. Cocktail attire suggested.
LOCATION:The Boathouse Waterfront Hotel & Restaurant 21 Ocean Avenue\, Kennebunkport\, ME 04046
UID:e.1923.22384
SEQUENCE:3
DTSTAMP:20260422T034153Z
URL:https://chamber.gokennebunks.com/events/details/above-board-presents-an-endless-summer-party-at-the-boathouse-waterfront-hotel-restaurant-22384
END:VEVENT

END:VCALENDAR
