BEGIN:VCALENDAR
VERSION:2.0
PRODID:-//ChamberMaster//Event Calendar 2.0//EN
METHOD:PUBLISH
X-PUBLISHED-TTL:P3D
REFRESH-INTERVAL:P3D
CALSCALE:GREGORIAN
BEGIN:VEVENT
DTSTART:20190917T223000Z
DTEND:20190918T000000Z
X-MICROSOFT-CDO-ALLDAYEVENT:FALSE
SUMMARY:AAA Luxury Travel Show
DESCRIPTION:We've Teamed up with the World's best travel brands for a unique travel showcase. Join us for a very special local event where you'll receive personalized attention and enjoy compelling\, informative presentations by AAA Travel Partners. Plus\, only AAA Travel offers the exclusive benefits\, exceptional savings\, and special experiences that will make your next vacation priceless. Please RSVP by calling AAA Travel at (207) 282-5212 or by emailing Young.brittany@nne.aaa.com today!
X-ALT-DESC;FMTTYPE=text/html:We&#39\;ve Teamed up with the World&#39\;s best travel brands for a unique travel showcase. Join us for a very special local event where you&#39\;ll receive personalized attention and enjoy compelling\, informative presentations by AAA Travel Partners. Plus\, only AAA Travel offers the exclusive benefits\, exceptional savings\, and special experiences that will make your next vacation priceless. Please RSVP by calling AAA Travel at (207) 282-5212 or by emailing Young.brittany@nne.aaa.com today!
LOCATION:Vinegar Hill Music Theatre 53 Old Post Rd\, Arundel\, ME 04046
UID:e.1923.13415
SEQUENCE:3
DTSTAMP:20260424T154047Z
URL:https://chamber.gokennebunks.com/events/details/aaa-luxury-travel-show-13415
END:VEVENT

END:VCALENDAR
