BEGIN:VCALENDAR
VERSION:2.0
PRODID:-//ChamberMaster//Event Calendar 2.0//EN
METHOD:PUBLISH
X-PUBLISHED-TTL:P3D
REFRESH-INTERVAL:P3D
CALSCALE:GREGORIAN
BEGIN:VEVENT
DTSTART:20250809T180000Z
DTEND:20250809T193000Z
X-MICROSOFT-CDO-ALLDAYEVENT:FALSE
SUMMARY:A Sailor’s Life in the American Revolution: 200th Anniversary Lecture Series
DESCRIPTION:On August 9th\, set sail on a vivid journey into the lives of young sailors during the Revolution\, exploring their hardships\, hopes\, and the salty reality of life aboard early American ships. In celebration of the Brick Store Museum's 200th anniversary\, join us for a special summer lecture series exploring the everyday lives\, choices\, and challenges that shaped early America.
X-ALT-DESC;FMTTYPE=text/html:<span style="font-family:times new roman\,serif"><span style="font-size:12.0pt">On August 9th\, set sail on a vivid journey into the lives of young sailors during the Revolution\, exploring their hardships\, hopes\, and the salty reality of life aboard early American ships. In celebration of the Brick Store Museum&rsquo\;s 200th anniversary\, join us for a special summer lecture series exploring the everyday lives\, choices\, and challenges that shaped early America.&nbsp\;</span></span>
LOCATION:Brick Store Museum
UID:e.1923.37674
SEQUENCE:3
DTSTAMP:20260421T124538Z
URL:https://chamber.gokennebunks.com/events/details/a-sailor-s-life-in-the-american-revolution-200th-anniversary-lecture-series-37674
END:VEVENT

END:VCALENDAR
