BEGIN:VCALENDAR
VERSION:2.0
PRODID:-//ChamberMaster//Event Calendar 2.0//EN
METHOD:PUBLISH
X-PUBLISHED-TTL:P3D
REFRESH-INTERVAL:P3D
CALSCALE:GREGORIAN
BEGIN:VEVENT
DTSTART;VALUE=DATE:20190906
DTEND;VALUE=DATE:20190907
TRANSP:TRANSPARENT
X-MICROSOFT-CDO-ALLDAYEVENT:TRUE
SUMMARY:'a place to be'
DESCRIPTION:On view at the Brick Store Museum in Kennebunk\, Maine  'a place to be' by Dianna Anderson.  The Bauman Family Gallery exhibit features 46 of her plein air and studio oil paintings about Maine and Florida. \n\n\n\nAddress: 117 Main St\, Kennebunk\, ME 04043\n \n\nHours:\n\n\n\nFriday                  10-5pm\nSaturday              10-4pm\n\nSunday                12-4pm\n\nMonday Closed\n\nTuesday              10-5pm\n\nWednesday         10-5pm\n\nThursday             10-5pm
X-ALT-DESC;FMTTYPE=text/html:<span style="color:rgb(8\, 0\, 0)\; font-family:georgia\,serif\; font-size:15px">&nbsp\;On view at the Brick Store Museum in Kennebunk\, Maine &nbsp\;&#39\;a place to be&#39\; by Dianna Anderson. &nbsp\;The Bauman Family Gallery exhibit features 46 of her plein air and studio oil paintings about Maine and Florida.&nbsp\;<br />\n<br />\nAddress: 117 Main St\, Kennebunk\, ME 04043</span>\n<div>&nbsp\;<br />\nHours:<br />\n<br />\nFriday &nbsp\; &nbsp\; &nbsp\;&nbsp\;&nbsp\;&nbsp\;&nbsp\;&nbsp\;&nbsp\;&nbsp\;&nbsp\;&nbsp\;&nbsp\;&nbsp\;&nbsp\;10-5pm\n<div>Saturday &nbsp\;&nbsp\;&nbsp\;&nbsp\;&nbsp\;&nbsp\;&nbsp\;&nbsp\;&nbsp\;&nbsp\;&nbsp\;&nbsp\;&nbsp\;10-4pm<br />\nSunday &nbsp\; &nbsp\;&nbsp\;&nbsp\;&nbsp\;&nbsp\;&nbsp\;&nbsp\;&nbsp\;&nbsp\;&nbsp\;&nbsp\;&nbsp\;&nbsp\;12-4pm<br />\nMonday Closed<br />\nTuesday &nbsp\; &nbsp\;&nbsp\;&nbsp\;&nbsp\;&nbsp\;&nbsp\;&nbsp\;&nbsp\;&nbsp\; &nbsp\;10-5pm<br />\nWednesday &nbsp\; &nbsp\; &nbsp\; &nbsp\;&nbsp\;10-5pm<br />\nThursday &nbsp\; &nbsp\;&nbsp\;&nbsp\;&nbsp\;&nbsp\; &nbsp\; &nbsp\;&nbsp\;10-5pm</div>\n</div>\n
LOCATION:Brick Store Museum 117 Main Street Kennebunk\, Maine 04043
UID:e.1923.13459
SEQUENCE:3
DTSTAMP:20260424T154004Z
URL:https://chamber.gokennebunks.com/events/details/a-place-to-be-09-06-2019-13459
END:VEVENT

END:VCALENDAR
