BEGIN:VCALENDAR
VERSION:2.0
PRODID:-//ChamberMaster//Event Calendar 2.0//EN
METHOD:PUBLISH
X-PUBLISHED-TTL:P3D
REFRESH-INTERVAL:P3D
CALSCALE:GREGORIAN
BEGIN:VEVENT
DTSTART:20240826T000000Z
DTEND:20240826T020000Z
X-MICROSOFT-CDO-ALLDAYEVENT:FALSE
SUMMARY:A Night of Zeppelin Live
DESCRIPTION:Join us for food and drinks before the show in our outdoor garden starting at 6pm!\n\nThe night's food truck is TBD!\n\n"A Night of Zeppelin" A four piece HEAVY HITTING Tribute to the music of the legendary band Led Zeppelin!\n\nGiving you LIVE performances from early 1969 live BBCTV broadcasts through their 1975 tour!\n\nSongs like..\n\n.\n\n-In My time of Dying   (1975 tour) Live in St. Louis\n\n-Communication Breakdown &\n\n-I Cant Quit You Baby AND How Many More Times (1969 BBCTV)\n\n-The Song Remains The Same (Live 1973)\n\nfrom the movie\, "The Song Remains the Same"\n\n-Whole Lotta Love LIVE 1973 .."One Night!..I believe I told you this before.."\n\nDon't miss the medleys and obscure songs and of course the HITS you love!\n\n\n\n\n\n\n\n\n\nJoin us for food and drinks before the show in our outdoor garden starting at 6pm!\n\nThe night's food truck is TBD!\n\n"A Night of Zeppelin" A four piece HEAVY HITTING Tribute to the music of the legendary band Led Zeppelin!\n\nGiving you LIVE performances from early 1969 live BBCTV broadcasts through their 1975 tour!\n\nSongs like..\n\n.\n\n-In My time of Dying   (1975 tour) Live in St. Louis\n\n-Communication Breakdown &\n\n-I Cant Quit You Baby AND How Many More Times (1969 BBCTV)\n\n-The Song Remains The Same (Live 1973)\n\nfrom the movie\, "The Song Remains the Same"\n\n-Whole Lotta Love LIVE 1973 .."One Night!..I believe I told you this before.."\n\nDon't miss the medleys and obscure songs and of course the HITS you love!
X-ALT-DESC;FMTTYPE=text/html:<div class="elementor-element elementor-element-f0fffd8 elementor-widget elementor-widget-spacer" data-element_type="widget" data-id="f0fffd8" data-widget_type="spacer.default" style="box-sizing: border-box\; --flex-direction: initial\; --flex-wrap: initial\; --justify-content: initial\; --align-items: initial\; --align-content: initial\; --gap: initial\; --flex-basis: initial\; --flex-grow: initial\; --flex-shrink: initial\; --order: initial\; --align-self: initial\; flex-basis: var(--flex-basis)\; flex-grow: var(--flex-grow)\; flex-shrink: var(--flex-shrink)\; order: var(--order)\; align-self: var(--align-self)\; flex-direction: var(--flex-direction)\; flex-wrap: var(--flex-wrap)\; justify-content: var(--justify-content)\; align-items: var(--align-items)\; align-content: var(--align-content)\; gap: var(--gap)\; position: relative\; --swiper-theme-color: #000\; --swiper-navigation-size: 44px\; --swiper-pagination-bullet-size: 6px\; --swiper-pagination-bullet-horizontal-gap: 6px\; --widgets-spacing: 0px 0px\; width: 1480px\; margin-block-end: 0px\; --spacer-size: 18px\; color: rgb(255\, 255\, 255)\; font-family: Lato\; font-size: 18px\; background-color: rgb(0\, 0\, 0)\; margin-bottom: 0px !important\;">\n<div class="elementor-widget-container" style="box-sizing: border-box\; transition: background .3s\,border .3s\,border-radius .3s\,box-shadow .3s\,transform var(--e-transform-transition-duration\,.4s)\;">\n<div class="elementor-spacer" style="box-sizing: border-box\;">\n<div class="elementor-spacer-inner" style="box-sizing: border-box\; height: var(--spacer-size)\;">\n<div class="elementor-element elementor-element-f0fffd8 elementor-widget elementor-widget-spacer" data-element_type="widget" data-id="f0fffd8" data-widget_type="spacer.default" style="box-sizing: border-box\; --flex-direction: initial\; --flex-wrap: initial\; --justify-content: initial\; --align-items: initial\; --align-content: initial\; --gap: initial\; --flex-basis: initial\; --flex-grow: initial\; --flex-shrink: initial\; --order: initial\; --align-self: initial\; flex-basis: var(--flex-basis)\; flex-grow: var(--flex-grow)\; flex-shrink: var(--flex-shrink)\; order: var(--order)\; align-self: var(--align-self)\; flex-direction: var(--flex-direction)\; flex-wrap: var(--flex-wrap)\; justify-content: var(--justify-content)\; align-items: var(--align-items)\; align-content: var(--align-content)\; gap: var(--gap)\; position: relative\; --swiper-theme-color: #000\; --swiper-navigation-size: 44px\; --swiper-pagination-bullet-size: 6px\; --swiper-pagination-bullet-horizontal-gap: 6px\; --widgets-spacing: 0px 0px\; width: 1480px\; margin-block-end: 0px\; --spacer-size: 18px\; margin-bottom: 0px !important\;">\n<div class="elementor-widget-container" style="box-sizing: border-box\; transition: background .3s\,border .3s\,border-radius .3s\,box-shadow .3s\,transform var(--e-transform-transition-duration\,.4s)\;">\n<div class="elementor-spacer" style="box-sizing: border-box\;">\n<div class="elementor-spacer-inner" style="box-sizing: border-box\; height: var(--spacer-size)\;">&nbsp\;</div>\n</div>\n</div>\n</div>\n\n<div class="elementor-element elementor-element-ed4ca8c elementor-widget elementor-widget-raven-post-content" data-element_type="widget" data-id="ed4ca8c" data-widget_type="raven-post-content.default" style="box-sizing: border-box\; --flex-direction: initial\; --flex-wrap: initial\; --justify-content: initial\; --align-items: initial\; --align-content: initial\; --gap: initial\; --flex-basis: initial\; --flex-grow: initial\; --flex-shrink: initial\; --order: initial\; --align-self: initial\; flex-basis: var(--flex-basis)\; flex-grow: var(--flex-grow)\; flex-shrink: var(--flex-shrink)\; order: var(--order)\; align-self: var(--align-self)\; flex-direction: var(--flex-direction)\; flex-wrap: var(--flex-wrap)\; justify-content: var(--justify-content)\; align-items: var(--align-items)\; align-content: var(--align-content)\; gap: var(--gap)\; position: relative\; --swiper-theme-color: #000\; --swiper-navigation-size: 44px\; --swiper-pagination-bullet-size: 6px\; --swiper-pagination-bullet-horizontal-gap: 6px\; --widgets-spacing: 0px 0px\; width: 1480px\; margin-block-end: 0px\; font-family: var( --e-global-typography-primary-font-family )\, Sans-serif\; font-weight: var( --e-global-typography-primary-font-weight )\; margin-bottom: 0px !important\;">\n<div class="elementor-widget-container" style="box-sizing: border-box\; transition: background .3s\,border .3s\,border-radius .3s\,box-shadow .3s\,transform var(--e-transform-transition-duration\,.4s)\; padding: 0px\;">\n<p style="box-sizing: border-box\; margin-top: 0px\; margin-bottom: 1rem\;">Join us for food and drinks before the show in our outdoor garden starting at&nbsp\;<span style="box-sizing:border-box\; font-weight:bolder">6pm!</span></p>\n\n<p style="box-sizing: border-box\; margin-top: 0px\; margin-bottom: 1rem\;">The night&rsquo\;s food truck is TBD!</p>\n\n<p style="box-sizing: border-box\; margin-top: 0px\; margin-bottom: 1rem\;">&ldquo\;A Night of Zeppelin&rdquo\;&nbsp\;A four piece HEAVY HITTING Tribute to the music of the legendary band Led Zeppelin!</p>\n\n<p style="box-sizing: border-box\; margin-top: 0px\; margin-bottom: 1rem\;">Giving you LIVE performances from early 1969 live BBCTV broadcasts through their 1975 tour!</p>\n\n<p style="box-sizing: border-box\; margin-top: 0px\; margin-bottom: 1rem\;">Songs like..</p>\n\n<p style="box-sizing: border-box\; margin-top: 0px\; margin-bottom: 1rem\;">.</p>\n\n<p style="box-sizing: border-box\; margin-top: 0px\; margin-bottom: 1rem\;">-In My time of Dying &ndash\; (1975 tour) Live in St. Louis</p>\n\n<p style="box-sizing: border-box\; margin-top: 0px\; margin-bottom: 1rem\;">-Communication Breakdown &amp\;</p>\n\n<p style="box-sizing: border-box\; margin-top: 0px\; margin-bottom: 1rem\;">-I Cant Quit You Baby AND How Many More Times&nbsp\;(1969 BBCTV)</p>\n\n<p style="box-sizing: border-box\; margin-top: 0px\; margin-bottom: 1rem\;">-The Song Remains The Same (Live 1973)</p>\n\n<p style="box-sizing: border-box\; margin-top: 0px\; margin-bottom: 1rem\;">from the movie\, &ldquo\;The Song Remains the Same&rdquo\;</p>\n\n<p style="box-sizing: border-box\; margin-top: 0px\; margin-bottom: 1rem\;">-Whole Lotta Love LIVE 1973&hellip\;..&rdquo\;One Night!..I believe I told you this before..&rdquo\;</p>\n\n<p style="box-sizing: border-box\; margin-top: 0px\; margin-bottom: 1rem\;">Don&rsquo\;t miss the medleys and obscure songs and of course the HITS you love!</p>\n</div>\n</div>\n</div>\n</div>\n</div>\n</div>\n\n<div class="elementor-element elementor-element-ed4ca8c elementor-widget elementor-widget-raven-post-content" data-element_type="widget" data-id="ed4ca8c" data-widget_type="raven-post-content.default" style="box-sizing: border-box\; --flex-direction: initial\; --flex-wrap: initial\; --justify-content: initial\; --align-items: initial\; --align-content: initial\; --gap: initial\; --flex-basis: initial\; --flex-grow: initial\; --flex-shrink: initial\; --order: initial\; --align-self: initial\; flex-basis: var(--flex-basis)\; flex-grow: var(--flex-grow)\; flex-shrink: var(--flex-shrink)\; order: var(--order)\; align-self: var(--align-self)\; flex-direction: var(--flex-direction)\; flex-wrap: var(--flex-wrap)\; justify-content: var(--justify-content)\; align-items: var(--align-items)\; align-content: var(--align-content)\; gap: var(--gap)\; position: relative\; --swiper-theme-color: #000\; --swiper-navigation-size: 44px\; --swiper-pagination-bullet-size: 6px\; --swiper-pagination-bullet-horizontal-gap: 6px\; --widgets-spacing: 0px 0px\; width: 1480px\; margin-block-end: 0px\; font-family: var( --e-global-typography-primary-font-family )\, Sans-serif\; font-weight: var( --e-global-typography-primary-font-weight )\; color: rgb(255\, 255\, 255)\; font-size: 18px\; background-color: rgb(0\, 0\, 0)\; margin-bottom: 0px !important\;">\n<div class="elementor-widget-container" style="box-sizing: border-box\; transition: background .3s\,border .3s\,border-radius .3s\,box-shadow .3s\,transform var(--e-transform-transition-duration\,.4s)\; padding: 0px\;">\n<p style="box-sizing: border-box\; margin-top: 0px\; margin-bottom: 1rem\;">Join us for food and drinks before the show in our outdoor garden starting at&nbsp\;<span style="box-sizing:border-box\; font-weight:bolder">6pm!</span></p>\n\n<p style="box-sizing: border-box\; margin-top: 0px\; margin-bottom: 1rem\;">The night&rsquo\;s food truck is TBD!</p>\n\n<p style="box-sizing: border-box\; margin-top: 0px\; margin-bottom: 1rem\;">&ldquo\;A Night of Zeppelin&rdquo\;&nbsp\;A four piece HEAVY HITTING Tribute to the music of the legendary band Led Zeppelin!</p>\n\n<p style="box-sizing: border-box\; margin-top: 0px\; margin-bottom: 1rem\;">Giving you LIVE performances from early 1969 live BBCTV broadcasts through their 1975 tour!</p>\n\n<p style="box-sizing: border-box\; margin-top: 0px\; margin-bottom: 1rem\;">Songs like..</p>\n\n<p style="box-sizing: border-box\; margin-top: 0px\; margin-bottom: 1rem\;">.</p>\n\n<p style="box-sizing: border-box\; margin-top: 0px\; margin-bottom: 1rem\;">-In My time of Dying &ndash\; (1975 tour) Live in St. Louis</p>\n\n<p style="box-sizing: border-box\; margin-top: 0px\; margin-bottom: 1rem\;">-Communication Breakdown &amp\;</p>\n\n<p style="box-sizing: border-box\; margin-top: 0px\; margin-bottom: 1rem\;">-I Cant Quit You Baby AND How Many More Times&nbsp\;(1969 BBCTV)</p>\n\n<p style="box-sizing: border-box\; margin-top: 0px\; margin-bottom: 1rem\;">-The Song Remains The Same (Live 1973)</p>\n\n<p style="box-sizing: border-box\; margin-top: 0px\; margin-bottom: 1rem\;">from the movie\, &ldquo\;The Song Remains the Same&rdquo\;</p>\n\n<p style="box-sizing: border-box\; margin-top: 0px\; margin-bottom: 1rem\;">-Whole Lotta Love LIVE 1973&hellip\;..&rdquo\;One Night!..I believe I told you this before..&rdquo\;</p>\n\n<p style="box-sizing: border-box\; margin-top: 0px\; margin-bottom: 1rem\;">Don&rsquo\;t miss the medleys and obscure songs and of course the HITS you love!</p>\n</div>\n</div>\n
LOCATION:Vinegar Hill Music Theatre 53 Old Post Road Arundel\, Maine 04046
UID:e.1923.29810
SEQUENCE:3
DTSTAMP:20260421T111540Z
URL:https://chamber.gokennebunks.com/events/details/a-night-of-zeppelin-live-29810
END:VEVENT

END:VCALENDAR
