BEGIN:VCALENDAR
VERSION:2.0
PRODID:-//ChamberMaster//Event Calendar 2.0//EN
METHOD:PUBLISH
X-PUBLISHED-TTL:P3D
REFRESH-INTERVAL:P3D
CALSCALE:GREGORIAN
BEGIN:VEVENT
DTSTART:20191215T000000Z
DTEND:20191215T013000Z
X-MICROSOFT-CDO-ALLDAYEVENT:FALSE
SUMMARY:A Capella Concert - St Petersburg\, Russia\, Men's Ensemble
DESCRIPTION:The Russians are coming!  On Friday\, December 14\, at 7 pm\, Christ Church is thrilled and proud to present in concert the St. Petersburg Men's Ensemble\, a highly polished a capella quartet who will be presenting a varied program ranging from traditional Russian music to popular Christmas songs.  Highly trained vocalists Kirill Sokolov\, Sergey Shapinsky\, Andrei Volikov\, and Vadim Smantser\, liturgical cantors in the Russian Orthodox Church\, formed the group in 2003 to expand the known limits of vocal music. With just four performers\, they present complex works generally performed by much larger groups. Their repertoire encompasses various epochs and styles\, from ancient Russian chants to Western European chorales to contemporary compositions\, along with Russian folk songs\, and secular and religious music. To learn more about these very talented young men\, visit their website http://sfcrook.com/steve_project/index.html   The ensemble will have CD's and Russian souvenirs available for purchase immediately after the concert.\n\n \n\nSuggested donation is $15\, or $10 for seniors and students\, or what one can give.  Children under 12 years old are welcome at no charge.  We cannot accept credit cards\, so please bring cash or checks for admission or potential purchases.\n\n \n\nChrist Church is a Federated congregation\, United Methodist Church and United Church of Christ.  Children are always welcome.  The church is entirely handicap-accessible from the parking lot behind Town Hall\, and also has a parking lot across Dane Street.  For more information\, please email christchurchkbk@gmail.com visit our website www.christchurchkennebunk.org\, or call or visit the office at 6 Dane Street Monday\, Wednesday or Friday\, 9:30 am to 2:30 pm. 985-4494.
X-ALT-DESC;FMTTYPE=text/html:<span style="color:black"><span style="font-size:11pt">The Russians are coming!&nbsp\; On Friday\, December 14\, at 7 pm\, Christ Church is thrilled and proud to present in concert <a href="http://sfcrook.com/steve_project/index.html" target="_blank"><span style="color:black">the St. Petersburg Men&#39\;s Ensemble</span></a>\, a highly polished a capella quartet who will be presenting a varied program ranging from traditional Russian music to popular Christmas songs.&nbsp\; Highly trained vocalists Kirill Sokolov\, Sergey Shapinsky\, Andrei Volikov\, and Vadim Smantser\, liturgical cantors in the Russian Orthodox Church\, formed the group in 2003 to expand the known limits of vocal music. With just four performers\, they present complex works generally performed by much larger groups. Their repertoire encompasses various epochs and styles\, from ancient Russian chants to Western European chorales to contemporary compositions\, along with Russian folk songs\, and secular and religious music. To learn more about these very talented young men\, visit their website <a href="http://sfcrook.com/steve_project/index.html">http://sfcrook.com/steve_project/index.html</a> &nbsp\;&nbsp\;The ensemble will have CD&rsquo\;s and Russian souvenirs available for purchase immediately after the concert.</span></span><br />\n&nbsp\;<br />\n<span style="color:black"><span style="font-size:11pt">Suggested donation is $15\, or $10 for seniors and students\, or what one can give. &nbsp\;Children under 12 years old are welcome at no charge.&nbsp\; We cannot accept credit cards\, so please bring cash or checks for admission or potential purchases.</span></span><br />\n&nbsp\;<br />\n<span style="font-size:11pt">Christ Church is a Federated congregation\, United Methodist Church and United Church of Christ. &nbsp\;Children are always welcome.&nbsp\; The church is entirely handicap-accessible from the parking lot behind Town Hall\, and also has a parking lot across Dane Street.&nbsp\; For more information\, please email christchurchkbk@gmail.com visit our website <a href="http://www.christchurchkennebunk.org/">www.christchurchkennebunk.org</a>\, or call or visit the office at 6 Dane Street Monday\, Wednesday or Friday\, 9:30 am to 2:30 pm. 985-4494.</span><br />\n&nbsp\;
LOCATION:Christ Church\, 6 Dane St\, Kennebunk
UID:e.1923.12819
SEQUENCE:3
DTSTAMP:20260424T114005Z
URL:https://chamber.gokennebunks.com/events/details/a-capella-concert-st-petersburg-russia-men-s-ensemble-12-14-2019-12819
END:VEVENT

END:VCALENDAR
