BEGIN:VCALENDAR
VERSION:2.0
PRODID:-//ChamberMaster//Event Calendar 2.0//EN
METHOD:PUBLISH
X-PUBLISHED-TTL:P3D
REFRESH-INTERVAL:P3D
CALSCALE:GREGORIAN
BEGIN:VEVENT
DTSTART:20240801T200000Z
DTEND:20240801T220000Z
X-MICROSOFT-CDO-ALLDAYEVENT:FALSE
SUMMARY:75th Annual Kennebunk Rotary Club Chicken Barbeque
DESCRIPTION:Please join us for our 75th Annual Rotary Chicken BBQ!  At the Waterhouse Center\, 51 Main Street\, Kennebunk\, from 4PM to 6PM.\n\n\n\nAll proceeds benefit the charitable work of the club in the Kennebunk community.   \n\n\n\nDrive-Thru or Dine-In\, for a delicious baked chicken\, corn on the cob\, coleslaw\, chips\, & cookie.\n\n\n\nTickets are $22.   Tickets can be purchased from any Kennebunk Rotarian\, on the Kennebunk Rotary website page\, Facebook\, or Eventbrite.
X-ALT-DESC;FMTTYPE=text/html:Please join us for our 75th Annual Rotary Chicken BBQ!&nbsp\; At the Waterhouse Center\, 51 Main Street\, Kennebunk\, from 4PM to 6PM.<br />\n<br />\nAll proceeds benefit the charitable work of the club in the Kennebunk community.&nbsp\; &nbsp\;<br />\n<br />\nDrive-Thru or Dine-In\, for a delicious baked chicken\, corn on the cob\, coleslaw\, chips\, &amp\; cookie.<br />\n<br />\nTickets are $22.&nbsp\; &nbsp\;Tickets can be purchased from any Kennebunk Rotarian\, on the Kennebunk Rotary website page\, Facebook\, or Eventbrite.&nbsp\;
LOCATION:The Waterhouse Center\, 51 Main Street\, Kennebunk\, ME. 04043
UID:e.1923.25475
SEQUENCE:3
DTSTAMP:20260421T124415Z
URL:https://chamber.gokennebunks.com/events/details/75th-annual-kennebunk-rotary-club-chicken-barbeque-25475
END:VEVENT

END:VCALENDAR
